BEGIN:VCALENDAR
VERSION:2.0
PRODID:-//NL Pensioners Association - ECPv6.15.20//NONSGML v1.0//EN
CALSCALE:GREGORIAN
METHOD:PUBLISH
X-WR-CALNAME:NL Pensioners Association
X-ORIGINAL-URL:https://nlpspa.ca
X-WR-CALDESC:Events for NL Pensioners Association
REFRESH-INTERVAL;VALUE=DURATION:PT1H
X-Robots-Tag:noindex
X-PUBLISHED-TTL:PT1H
BEGIN:VTIMEZONE
TZID:America/St_Johns
BEGIN:DAYLIGHT
TZOFFSETFROM:-0330
TZOFFSETTO:-0230
TZNAME:NDT
DTSTART:20240310T053000
END:DAYLIGHT
BEGIN:STANDARD
TZOFFSETFROM:-0230
TZOFFSETTO:-0330
TZNAME:NST
DTSTART:20241103T043000
END:STANDARD
BEGIN:DAYLIGHT
TZOFFSETFROM:-0330
TZOFFSETTO:-0230
TZNAME:NDT
DTSTART:20250309T053000
END:DAYLIGHT
BEGIN:STANDARD
TZOFFSETFROM:-0230
TZOFFSETTO:-0330
TZNAME:NST
DTSTART:20251102T043000
END:STANDARD
BEGIN:DAYLIGHT
TZOFFSETFROM:-0330
TZOFFSETTO:-0230
TZNAME:NDT
DTSTART:20260308T053000
END:DAYLIGHT
BEGIN:STANDARD
TZOFFSETFROM:-0230
TZOFFSETTO:-0330
TZNAME:NST
DTSTART:20261101T043000
END:STANDARD
END:VTIMEZONE
BEGIN:VEVENT
DTSTART;TZID=America/St_Johns:20250926T090000
DTEND;TZID=America/St_Johns:20250926T160000
DTSTAMP:20260421T185515
CREATED:20250911T165447Z
LAST-MODIFIED:20250911T165639Z
UID:3464-1758877200-1758902400@nlpspa.ca
SUMMARY:2nd Annual Fall Forum\, Rising Above The Rest
DESCRIPTION:The 2nd Annual Fall Forum\, Rising Above The Rest\, is being sponsored by the Seniors Advisory Group\, Town of Gander.  \nIt will be held on Friday\, September 26th\, 2025 from 9am to 4pm at the Evangel Church on 130 Magee Road. \nThe Forum will feature guest speakers on various topics of interest to Seniors.  \nSnacks will be provided.
URL:https://nlpspa.ca/event/2nd-annual-fall-forum-rising-above-the-rest/
LOCATION:The Evangel Church\, 130 Magee Road\, Gander\, NL\, Canada
ATTACH;FMTTYPE=image/png:https://nlpspa.ca/wp-content/uploads/2025/09/Seniors-Fall-Forum.png
END:VEVENT
END:VCALENDAR