BEGIN:VCALENDAR
VERSION:2.0
PRODID:-//NL Pensioners Association - ECPv6.15.20//NONSGML v1.0//EN
CALSCALE:GREGORIAN
METHOD:PUBLISH
X-ORIGINAL-URL:https://nlpspa.ca
X-WR-CALDESC:Events for NL Pensioners Association
REFRESH-INTERVAL;VALUE=DURATION:PT1H
X-Robots-Tag:noindex
X-PUBLISHED-TTL:PT1H
BEGIN:VTIMEZONE
TZID:America/St_Johns
BEGIN:DAYLIGHT
TZOFFSETFROM:-0330
TZOFFSETTO:-0230
TZNAME:NDT
DTSTART:20240310T053000
END:DAYLIGHT
BEGIN:STANDARD
TZOFFSETFROM:-0230
TZOFFSETTO:-0330
TZNAME:NST
DTSTART:20241103T043000
END:STANDARD
BEGIN:DAYLIGHT
TZOFFSETFROM:-0330
TZOFFSETTO:-0230
TZNAME:NDT
DTSTART:20250309T053000
END:DAYLIGHT
BEGIN:STANDARD
TZOFFSETFROM:-0230
TZOFFSETTO:-0330
TZNAME:NST
DTSTART:20251102T043000
END:STANDARD
BEGIN:DAYLIGHT
TZOFFSETFROM:-0330
TZOFFSETTO:-0230
TZNAME:NDT
DTSTART:20260308T053000
END:DAYLIGHT
BEGIN:STANDARD
TZOFFSETFROM:-0230
TZOFFSETTO:-0330
TZNAME:NST
DTSTART:20261101T043000
END:STANDARD
END:VTIMEZONE
BEGIN:VEVENT
DTSTART;TZID=America/St_Johns:20250211T193000
DTEND;TZID=America/St_Johns:20250211T210000
DTSTAMP:20260422T042222
CREATED:20250108T153200Z
LAST-MODIFIED:20250108T153402Z
UID:2789-1739302200-1739307600@nlpspa.ca
SUMMARY:Wills & Estate Planning
DESCRIPTION:NLPSPA is pleased to partner with CARP NL and the Public Legal Information Association of Newfoundland and Labrador\, to bring you a session on the importance of having a will\, when to update it\, pitfalls to avoid\, what to include\, what is probate and why/when\, what constitutes a valid will\, what is an Enduring Power of Attorney and the requirements and what is an Advanced Health Care Directive and the requirements.   \nOur presenter is Sara Hawkins\, an Access to Justice Coordinator with the Public Legal Association of Newfoundland and Labrador. Sara has over 15 years experience as a paralegal and has worked with private firms\, legal aid\, the courts\, and non-profits. She has worked with all aspect of the law but has a passion for seniors who need help navigating the legal aspects of aging. When not at work you will see her volunteering as a first responder with St. John Ambulance or knitting while drinking coffee. \nEveryone is welcome to this zoom event. \nPlease click on the link below to register for this event. You will receive a reply email with the link to participate. \nhttps://us06web.zoom.us/meeting/register/PyF_7k4wTf6ChxzyYuVHRQ
URL:https://nlpspa.ca/event/wills-estate-planning-3/
LOCATION:Virtual Meeting
CATEGORIES:NLPSPA Event
ORGANIZER;CN="NLPSPA":MAILTO:pensioners@npspa.ca
END:VEVENT
BEGIN:VEVENT
DTSTART;TZID=America/St_Johns:20250225T093000
DTEND;TZID=America/St_Johns:20250225T093000
DTSTAMP:20260422T042222
CREATED:20250219T171139Z
LAST-MODIFIED:20250219T171205Z
UID:2829-1740475800-1740475800@nlpspa.ca
SUMMARY:Let’s Talk About… Hearing Loss and Aging
DESCRIPTION:About one-third of older adults have hearing loss\, and the chance of developing hearing loss increases with age. Join us in our upcoming Zoom session\, Let’s Talk About… Hearing Loss and Aging as Marta Evstigneev from the Canadian Hard of Hearing Association Newfoundland and Labrador discusses the topic. \n  \nRegister here: https://us06web.zoom.us/meeting/register/tZAvdeGrqj4qEtNp_6v9ZkBPw6V6RHLEkjAg
URL:https://nlpspa.ca/event/lets-talk-about-hearing-loss-and-aging/
LOCATION:Virtual Meeting
CATEGORIES:Seniors NL
ORGANIZER;CN="Seniors NL":MAILTO:outreach@seniorsnl.ca
END:VEVENT
BEGIN:VEVENT
DTSTART;TZID=America/St_Johns:20250227T193000
DTEND;TZID=America/St_Johns:20250227T203000
DTSTAMP:20260422T042222
CREATED:20250219T131727Z
LAST-MODIFIED:20250219T131727Z
UID:2827-1740684600-1740688200@nlpspa.ca
SUMMARY:Canadian Red Cross Emergency Management: Be Ready
DESCRIPTION:The Canadian Red Cross (CRC) is pleased to partner with CARP NL to bring you a session on the importance of being prepared for an emergency. Everyone is welcome to this ZOOM event. \nOur Be-Ready: Emergency Preparedness workshop will take you through the 4 key steps:\n1. Know the Risks\n2. Make a Plan\n3. Build a Kit\, and\n4. Build a Network \nThe importance and relevance of this presentation comes at a time when we see the horrific fires in California and floods and wind damage in our own province.\nThe Order of the Red Cross is the highest honour awarded to a volunteer and Bernice Paul is a recipient for her lifetime of work and dedication. \nWe are delighted to have Bernice\, an Emergency Management volunteer with the Canadian Red Cross for over 47 years and on the Emergency Management team for the past 25 years. Bernice has assisted locally with personal emergencies\, such as house fires and has been deployed to numerous large-scale disasters\, such as 9/11\, floods\, fires\, hurricanes\, and tornados within Canada and the United States. \nPlease click on the link below to register for this event. You will receive a reply email with the link to participate.\n\nRegister Here \n  \n  \n  \n 
URL:https://nlpspa.ca/event/canadian-red-cross-emergency-management-be-ready/
LOCATION:Virtual Meeting
CATEGORIES:CARP NL Event
END:VEVENT
END:VCALENDAR