BEGIN:VCALENDAR
VERSION:2.0
PRODID:-//NL Pensioners Association - ECPv6.15.20//NONSGML v1.0//EN
CALSCALE:GREGORIAN
METHOD:PUBLISH
X-ORIGINAL-URL:https://nlpspa.ca
X-WR-CALDESC:Events for NL Pensioners Association
REFRESH-INTERVAL;VALUE=DURATION:PT1H
X-Robots-Tag:noindex
X-PUBLISHED-TTL:PT1H
BEGIN:VTIMEZONE
TZID:America/St_Johns
BEGIN:DAYLIGHT
TZOFFSETFROM:-0330
TZOFFSETTO:-0230
TZNAME:NDT
DTSTART:20230312T053000
END:DAYLIGHT
BEGIN:STANDARD
TZOFFSETFROM:-0230
TZOFFSETTO:-0330
TZNAME:NST
DTSTART:20231105T043000
END:STANDARD
BEGIN:DAYLIGHT
TZOFFSETFROM:-0330
TZOFFSETTO:-0230
TZNAME:NDT
DTSTART:20240310T053000
END:DAYLIGHT
BEGIN:STANDARD
TZOFFSETFROM:-0230
TZOFFSETTO:-0330
TZNAME:NST
DTSTART:20241103T043000
END:STANDARD
BEGIN:DAYLIGHT
TZOFFSETFROM:-0330
TZOFFSETTO:-0230
TZNAME:NDT
DTSTART:20250309T053000
END:DAYLIGHT
BEGIN:STANDARD
TZOFFSETFROM:-0230
TZOFFSETTO:-0330
TZNAME:NST
DTSTART:20251102T043000
END:STANDARD
END:VTIMEZONE
BEGIN:VEVENT
DTSTART;TZID=America/St_Johns:20241001T100000
DTEND;TZID=America/St_Johns:20241001T170000
DTSTAMP:20260422T141239
CREATED:20240424T151052Z
LAST-MODIFIED:20240424T151110Z
UID:2471-1727776800-1727802000@nlpspa.ca
SUMMARY:International Day of Older Persons
DESCRIPTION:Flag Raising\, City Hall
URL:https://nlpspa.ca/event/international-day-of-older-persons/
LOCATION:City Hall\, 10 New Gower Street\, St. John's\, NL\, A1C 5M2\, Canada
END:VEVENT
BEGIN:VEVENT
DTSTART;TZID=America/St_Johns:20241003T080000
DTEND;TZID=America/St_Johns:20241003T170000
DTSTAMP:20260422T141239
CREATED:20240424T151437Z
LAST-MODIFIED:20240424T151437Z
UID:2474-1727942400-1727974800@nlpspa.ca
SUMMARY:St. John's Seniors Day
DESCRIPTION:
URL:https://nlpspa.ca/event/st-johns-seniors-day/
CATEGORIES:City of St. John's
END:VEVENT
BEGIN:VEVENT
DTSTART;TZID=America/St_Johns:20241009T153000
DTEND;TZID=America/St_Johns:20241009T213000
DTSTAMP:20260422T141239
CREATED:20240425T141607Z
LAST-MODIFIED:20240425T142421Z
UID:2492-1728487800-1728509400@nlpspa.ca
SUMMARY:2024 AGM and Convention: Day One
DESCRIPTION:Cheers to 35 Years! \nThe 2024 NLPSPA Convention will offer a variety of opportunities to celebrate our membership\, to applaud the accomplishments of the Association over thirty-five (35) years and to reminisce with friends and former colleagues in a fun and relaxing atmosphere. \nRegistration information to follow. \n3:30 p.m.                                Registration\, Membership Desk\, Exhibits\, Reception and Cash Bar                         \n5:00 p.m.                               Meal \n6:30 p.m.                               Opening Ceremonies                     \n7:30 p.m.                                Annual General Meeting \n                                              Presentation by belairdirect \n                                              35th Birthday Celebration \n9:30 p.m.                                Evening Adjournment
URL:https://nlpspa.ca/event/2024-agm-and-convention-day-one/
LOCATION:Capital Hotel\, 208 Kenmount Road\, St. John's\, NL\, A1B 3P2\, Canada
CATEGORIES:NLPSPA Event
ATTACH;FMTTYPE=image/jpeg:https://nlpspa.ca/wp-content/uploads/2023/01/Logo.jpg
ORGANIZER;CN="NLPSPA":MAILTO:pensioners@npspa.ca
END:VEVENT
BEGIN:VEVENT
DTSTART;TZID=America/St_Johns:20241010T083000
DTEND;TZID=America/St_Johns:20241010T150000
DTSTAMP:20260422T141239
CREATED:20240425T142221Z
LAST-MODIFIED:20240919T125704Z
UID:2496-1728549000-1728572400@nlpspa.ca
SUMMARY:2024 AGM and Convention: Day Two
DESCRIPTION:Cheers to 35 Years! \nThe 2024 NLPSPA Convention will offer a variety of opportunities to celebrate our membership\, to applaud the accomplishments of the Association over thirty-five (35) years and to reminisce with friends and former colleagues in a fun and relaxing atmosphere.  Taking place at the Capital Hotel\, 208 Kenmount Road in St. John’s. \n  \n8:30 a.m.                                 Registration\, Membership Desk and Exhibits \n8:45 a.m.                                 Continental Breakfast \n9:45 a.m.                                 Convention/Housekeeping/Overview of Activities \n10:00 a.m.                               Speaker #1: Pamela Dawe\, Office of the Seniors’ Advocate \n11:00 a.m.                               Speakers #2: Status of Public Service Pension Plan (Provident 10) (VP Investments Mark  \n                                               Strangemore) & Teacher’s Pension Plan (TPPC) (Levi May\, CPA\, CA\, CFO) \n12:30 p.m.                              Luncheon                                                                                                                                                                                                                    \n1:30 p.m.                                Entertainment (Fergus O’Byrne & Jim Payne)                                             \n3:00 p.m.                                 Closing: Prize Draws\, Convention Evaluation\, Ode to Newfoundland
URL:https://nlpspa.ca/event/2024-agm-and-convention-day-two/
LOCATION:Capital Hotel\, 208 Kenmount Road\, St. John's\, NL\, A1B 3P2\, Canada
CATEGORIES:NLPSPA Event
ATTACH;FMTTYPE=image/jpeg:https://nlpspa.ca/wp-content/uploads/2023/01/Logo.jpg
ORGANIZER;CN="NLPSPA":MAILTO:pensioners@npspa.ca
END:VEVENT
BEGIN:VEVENT
DTSTART;TZID=America/St_Johns:20241022T140000
DTEND;TZID=America/St_Johns:20241022T160000
DTSTAMP:20260422T141239
CREATED:20240911T162908Z
LAST-MODIFIED:20240911T163013Z
UID:2603-1729605600-1729612800@nlpspa.ca
SUMMARY:GENERAL INCOME TAX PREPARATION\, BENEFITS\, CREDITS
DESCRIPTION:CRA (Canada Revenue Agency) in partnership with NLPSPA & CARP NL presents a two-part membership series on: \n(Session #1) GENERAL INCOME TAX PREPARATION\, BENEFITS\, CREDITS \n(Session #2) DISABILITY TAX CREDIT\, MEDICAL EXPENSES\, CAREGIVER BENEFIT & OTHER SERVICES \nThese are virtual meetings and internet access is required. \nBenefits and credits can make a big difference to people in our community. The CRA’s CVITP and Benefits Outreach Program helps people to learn about the benefits of tax-filing\, the benefits and credits they may be eligible for\, and the supports available to help with completing an income tax and benefits return. \nAs 2024 is closing\, our thoughts will soon turn to the dread of filing our annual tax returns. Once again\, NLPSPA and CARP NL have engaged with representatives from the Canada Revenue Agency (CRA) to host two information sessions for seniors on income tax\, benefits\, credits\, how to prepare your taxes\, how to avoid payment interruptions\, what special tax credits may be available and what services CRA can provide. These topics will be covered in session #1. Session #2 will cover other subject areas such as GST/HST credit\, disability tax credit\, pension income splitting\, medical expenses\, the caregiver benefit\, etc.  CRA will also provide information on the Community Volunteer Income Tax Program\, online services and answer general questions you might have. \nOur presenter for these two events will be Melanie Cole\, CVITP and Benefits Outreach Officer from the CRA location in St. John’s. \nFollowing each presentation\, there will be time for questions and answers.   \nSession #1 \nWhen: Tuesday\, October 22\, 2024 \nTime:  2:00 PM NST; 1:30 PM AST \nSession #2 \nWhen: Tuesday\, October 29\, 2024 \nTime: 2:00 PM NST; 1:30 PM AST \nPlease click on the link below to register for this event. You only need to register once to attend both workshops. Reminders\, with the link\, will be sent one day before each event. \nhttps://us06web.zoom.us/meeting/register/tZcodOmvrD4pH9KBjZrM2ZmpCbJlMRnIvR8C \nEveryone is welcome for these most timely presentations.
URL:https://nlpspa.ca/event/2603/
LOCATION:Virtual Meeting
CATEGORIES:NLPSPA Event
ORGANIZER;CN="NLPSPA":MAILTO:pensioners@npspa.ca
END:VEVENT
BEGIN:VEVENT
DTSTART;TZID=America/St_Johns:20241024T180000
DTEND;TZID=America/St_Johns:20241024T190000
DTSTAMP:20260422T141239
CREATED:20240815T224727Z
LAST-MODIFIED:20240815T224956Z
UID:2592-1729792800-1729796400@nlpspa.ca
SUMMARY:Canada Pension Plan Investment Board Meeting
DESCRIPTION:SAVE THE DATE! Attend and let your voice be heard!\n \nThe Canada Pension Plan Investment Board will be holding a public in-person meeting in St. John’s on Thursday\, October 24\, 2024\, from 6:00 PM – 7:00 PM. The meeting is set for the Holiday inn\, Portugal Cove Road (to be confirmed) and registration will be required. As soon as we receive the link to register\, it will be widely posted.  \nCheck out Website listed below for more details.
URL:https://nlpspa.ca/event/canada-pension-plan-investment-board-meeting/
LOCATION:Holiday Inn\, Portugal Cove Rd
END:VEVENT
BEGIN:VEVENT
DTSTART;TZID=America/St_Johns:20241029T093000
DTEND;TZID=America/St_Johns:20241029T110000
DTSTAMP:20260422T141239
CREATED:20241024T123646Z
LAST-MODIFIED:20241024T123646Z
UID:2684-1730194200-1730199600@nlpspa.ca
SUMMARY:After Stroke Recovery Program
DESCRIPTION:Please join us as the March of Dimes representatives will be discussing the After Stroke recovery program. After Stroke is a personalized stroke recovery program that helps survivors\, and their families navigate the path forward after a stroke. If you’re impacted by stroke\, we’re here to help. \nYou are invited to a Zoom meeting. \nWhen: Oct 29\, 2024 09:30 AM Newfoundland and Labrador \nRegister in advance for this meeting: \nhttps://us06web.zoom.us/meeting/register/tZUvcOGopjguH9RV6IZ9FQ5lDv_A49dgKR8a \nAfter registering\, you will receive a confirmation email containing information about joining the meeting.
URL:https://nlpspa.ca/event/after-stroke-recovery-program/
LOCATION:Virtual Meeting
CATEGORIES:Seniors NL
ORGANIZER;CN="Seniors NL":MAILTO:outreach@seniorsnl.ca
END:VEVENT
BEGIN:VEVENT
DTSTART;TZID=America/St_Johns:20241029T140000
DTEND;TZID=America/St_Johns:20241029T160000
DTSTAMP:20260422T141239
CREATED:20240911T163848Z
LAST-MODIFIED:20240911T163848Z
UID:2606-1730210400-1730217600@nlpspa.ca
SUMMARY:DISABILITY TAX CREDIT\, MEDICAL EXPENSES\, CAREGIVER BENEFIT & OTHER SERVICES
DESCRIPTION:CRA (Canada Revenue Agency) in partnership with NLPSPA & CARP NL presents a two-part membership series on: \n(Session #1) GENERAL INCOME TAX PREPARATION\, BENEFITS\, CREDITS \n(Session #2) DISABILITY TAX CREDIT\, MEDICAL EXPENSES\, CAREGIVER BENEFIT & OTHER SERVICES \nThese are virtual meetings and internet access is required. \nBenefits and credits can make a big difference to people in our community. The CRA’s CVITP and Benefits Outreach Program helps people to learn about the benefits of tax-filing\, the benefits and credits they may be eligible for\, and the supports available to help with completing an income tax and benefits return. \nAs 2024 is closing\, our thoughts will soon turn to the dread of filing our annual tax returns. Once again\, NLPSPA and CARP NL have engaged with representatives from the Canada Revenue Agency (CRA) to host two information sessions for seniors on income tax\, benefits\, credits\, how to prepare your taxes\, how to avoid payment interruptions\, what special tax credits may be available and what services CRA can provide. These topics will be covered in session #1. Session #2 will cover other subject areas such as GST/HST credit\, disability tax credit\, pension income splitting\, medical expenses\, the caregiver benefit\, etc.  CRA will also provide information on the Community Volunteer Income Tax Program\, online services and answer general questions you might have. \nOur presenter for these two events will be Melanie Cole\, CVITP and Benefits Outreach Officer from the CRA location in St. John’s. \nFollowing each presentation\, there will be time for questions and answers.   \nSession #1 \nWhen: Tuesday\, October 22\, 2024 \nTime:  2:00 PM NST; 1:30 PM AST \nSession #2 \nWhen: Tuesday\, October 29\, 2024 \nTime: 2:00 PM NST; 1:30 PM AST \nPlease click on the link below to register for this event. You only need to register once to attend both workshops. Reminders\, with the link\, will be sent one day before each event. \nhttps://us06web.zoom.us/meeting/register/tZcodOmvrD4pH9KBjZrM2ZmpCbJlMRnIvR8C \nEveryone is welcome for these most timely presentations.
URL:https://nlpspa.ca/event/disability-tax-credit-medical-expenses-caregiver-benefit-other-services/
LOCATION:Virtual Meeting
CATEGORIES:NLPSPA Event
ORGANIZER;CN="NLPSPA Board":MAILTO:pensioners@npspa.ca
END:VEVENT
END:VCALENDAR