BEGIN:VCALENDAR
VERSION:2.0
PRODID:-//NL Pensioners Association - ECPv6.15.20//NONSGML v1.0//EN
CALSCALE:GREGORIAN
METHOD:PUBLISH
X-WR-CALNAME:NL Pensioners Association
X-ORIGINAL-URL:https://nlpspa.ca
X-WR-CALDESC:Events for NL Pensioners Association
REFRESH-INTERVAL;VALUE=DURATION:PT1H
X-Robots-Tag:noindex
X-PUBLISHED-TTL:PT1H
BEGIN:VTIMEZONE
TZID:America/St_Johns
BEGIN:DAYLIGHT
TZOFFSETFROM:-0330
TZOFFSETTO:-0230
TZNAME:NDT
DTSTART:20230312T053000
END:DAYLIGHT
BEGIN:STANDARD
TZOFFSETFROM:-0230
TZOFFSETTO:-0330
TZNAME:NST
DTSTART:20231105T043000
END:STANDARD
BEGIN:DAYLIGHT
TZOFFSETFROM:-0330
TZOFFSETTO:-0230
TZNAME:NDT
DTSTART:20240310T053000
END:DAYLIGHT
BEGIN:STANDARD
TZOFFSETFROM:-0230
TZOFFSETTO:-0330
TZNAME:NST
DTSTART:20241103T043000
END:STANDARD
BEGIN:DAYLIGHT
TZOFFSETFROM:-0330
TZOFFSETTO:-0230
TZNAME:NDT
DTSTART:20250309T053000
END:DAYLIGHT
BEGIN:STANDARD
TZOFFSETFROM:-0230
TZOFFSETTO:-0330
TZNAME:NST
DTSTART:20251102T043000
END:STANDARD
END:VTIMEZONE
BEGIN:VEVENT
DTSTART;TZID=America/St_Johns:20240306T093000
DTEND;TZID=America/St_Johns:20240306T093000
DTSTAMP:20260423T003500
CREATED:20231027T162016Z
LAST-MODIFIED:20231027T162021Z
UID:1994-1709717400-1709717400@nlpspa.ca
SUMMARY:NLPSPA Board Meeting
DESCRIPTION:March 6\, 2024\, @ 9:30 AM via zoom 
URL:https://nlpspa.ca/event/nlpspa-board-meeting-3/
LOCATION:Virtual Meeting
CATEGORIES:Board Meetings
ATTACH;FMTTYPE=image/jpeg:https://nlpspa.ca/wp-content/uploads/2023/01/Logo.jpg
ORGANIZER;CN="NLPSPA":MAILTO:pensioners@npspa.ca
END:VEVENT
BEGIN:VEVENT
DTSTART;TZID=America/St_Johns:20240306T093000
DTEND;TZID=America/St_Johns:20240306T110000
DTSTAMP:20260423T003500
CREATED:20240228T155333Z
LAST-MODIFIED:20240228T155333Z
UID:2412-1709717400-1709722800@nlpspa.ca
SUMMARY:Living on a Fixed Income
DESCRIPTION:Join us for an informative presentation tailored to seniors living on a fixed income.  \nWe will discuss practical ways to deal with the rising costs of living\, talk about the struggles with living on a fixed income\, and explore possible solutions.  \nOur session will cover available services that seniors can access and explore various options to manage growing debts. \nGuest speakers: Yvette A. Power\, Manager\, and Paula Ryan\, Senior Insolvency Counsellor with BDO Canada Limited.\n \nClick here to register
URL:https://nlpspa.ca/event/living-on-a-fixed-income/
LOCATION:Virtual Meeting
CATEGORIES:Seniors NL
ATTACH;FMTTYPE=image/jpeg:https://nlpspa.ca/wp-content/uploads/2023/09/Picture1.jpg
ORGANIZER;CN="Seniors NL":MAILTO:outreach@seniorsnl.ca
END:VEVENT
BEGIN:VEVENT
DTSTART;TZID=America/St_Johns:20240314T193000
DTEND;TZID=America/St_Johns:20240314T203000
DTSTAMP:20260423T003500
CREATED:20240212T145915Z
LAST-MODIFIED:20240212T145921Z
UID:2381-1710444600-1710448200@nlpspa.ca
SUMMARY:Fergus O'Byrne Music Hour
DESCRIPTION:Irish Newfoundland Music and Song \nThursday March 14th from 7:30pm to 8:30pm \nCome Join Us and get a Start on St. Patrick’s Day \nCARP NL invites its members and friends to join us for a fun-filled\, exciting\, sing-along evening with famed NL musician Fergus O’Byrne. Fergus is an Irish-Canadian musician who brings happiness\, laughter and gaiety to life. \nFergus O’Byrne is well-recognized for his efforts in promoting Newfoundland and Celtic music and has received several awards acknowledging these accomplishments including an ECMA Lifetime Achievement Award and an NLAC Arts in Education award shared with Jim Payne. \nIn addition to touring nationally and internationally\, Fergus works extensively mentoring young folk enthusiasts and students throughout the province of Newfoundland and Labrador. \nRegister
URL:https://nlpspa.ca/event/fergus-obyrne-music-hour/
LOCATION:Virtual Meeting
CATEGORIES:CARP NL Event
ATTACH;FMTTYPE=image/jpeg:https://nlpspa.ca/wp-content/uploads/2024/02/Fergus.jpg
END:VEVENT
BEGIN:VEVENT
DTSTART;TZID=America/St_Johns:20240323T100000
DTEND;TZID=America/St_Johns:20240323T160000
DTSTAMP:20260423T003500
CREATED:20240306T170342Z
LAST-MODIFIED:20240306T170342Z
UID:2418-1711188000-1711209600@nlpspa.ca
SUMMARY:techKNOWtutors: Gander
DESCRIPTION:Registrants are encouraged to arrive 30 minutes in advance to ensure the session starts on time. \nPlease bring along your iPhone\, smartphone\, iPad\, or whatever other portable electronic device you use for accessing online communication. \nThe curriculum is as follows: \n\n Digital Basics: \n\n\nIntroduction to computers\, operating systems\, and common hardware components\nNavigating the desktop\, files\, and folders\nUnderstanding basic computer terminology\n\n\n Internet Fundamentals: \n\n\nIntroduction to web browsers and their features\nConducting effective web searches\nUnderstanding website navigation and URL structures\nExploring online resources and tools\n\n\n Email and Communication: \n\n\nSetting up and managing email accounts\nComposing\, sending\, and replying to emails\nUnderstanding email etiquette and best practices\nIntroduction to video conferencing and instant messaging tools\n\nRegister here for Gander: https://form.jotform.com/240526629091255 \nAs there is a general class capacity of 50 people\, you will need to register early to secure your placement. If you are unable to attend for some unexpected reason\, we ask you to let us know so we can offer the spot to someone else. \nNLPSPA will be sponsoring refreshments during the session. Registrants are also encouraged to ensure their own personal care needs and any additional or special eating needs are met. NLPSPA and TechKNOWtutors express sincere thanks to the venue providers in Gander and Marystown for the contribution of meeting space for this training. \nMembers of the Newfoundland and Labrador Public Sector Pensioners’ Association in the Gander area are invited to participate in this session\, as well as any other seniors\, retirees or older persons who wish to increase their digital knowledge and comfort. Come and learn and bring a friend. But remember\, you must pre-register; drop-ins cannot be accepted.
URL:https://nlpspa.ca/event/techknowtutors-gander/
LOCATION:Evangel Pentecostal Church\, 130 Magee Road\, Gander\, NL\, Canada
CATEGORIES:NLPSPA Event
ORGANIZER;CN="NLPSPA":MAILTO:pensioners@npspa.ca
END:VEVENT
BEGIN:VEVENT
DTSTART;TZID=America/St_Johns:20240328T100000
DTEND;TZID=America/St_Johns:20240328T160000
DTSTAMP:20260423T003500
CREATED:20240306T170647Z
LAST-MODIFIED:20240306T170656Z
UID:2421-1711620000-1711641600@nlpspa.ca
SUMMARY:techKNOWtutors: Marystown
DESCRIPTION:Registrants are encouraged to arrive 30 minutes in advance to ensure the session starts on time. \nPlease bring along your iPhone\, smartphone\, iPad\, or whatever other portable electronic device you use for accessing online communication. \nThe curriculum is as follows: \n\n Digital Basics: \n\n\nIntroduction to computers\, operating systems\, and common hardware components\nNavigating the desktop\, files\, and folders\nUnderstanding basic computer terminology\n\n\n Internet Fundamentals: \n\n\nIntroduction to web browsers and their features\nConducting effective web searches\nUnderstanding website navigation and URL structures\nExploring online resources and tools\n\n\n Email and Communication: \n\n\nSetting up and managing email accounts\nComposing\, sending\, and replying to emails\nUnderstanding email etiquette and best practices\nIntroduction to video conferencing and instant messaging tools\n\nRegister here Marystown: https://form.jotform.com/240595395075263 \nAs there is a general class capacity of 50 people\, you will need to register early to secure your placement. If you are unable to attend for some unexpected reason\, we ask you to let us know so we can offer the spot to someone else. \nNLPSPA will be sponsoring refreshments during the session. Registrants are also encouraged to ensure their own personal care needs and any additional or special eating needs are met. NLPSPA and TechKNOWtutors express sincere thanks to the venue providers in Gander and Marystown for the contribution of meeting space for this training. \nMembers of the Newfoundland and Labrador Public Sector Pensioners’ Association in the Marystown area are invited to participate in this session\, as well as any other seniors\, retirees or older persons who wish to increase their digital knowledge and comfort. Come and learn and bring a friend. But remember\, you must pre-register; drop-ins cannot be accepted.
URL:https://nlpspa.ca/event/techknowtutors-2/
LOCATION:St. Gabriel’s Hall\, 254 Ville Marie Drive\, Marystown\, NL\, Canada
CATEGORIES:NLPSPA Event
ORGANIZER;CN="NLPSPA":MAILTO:pensioners@npspa.ca
END:VEVENT
END:VCALENDAR