BEGIN:VCALENDAR
VERSION:2.0
PRODID:-//NL Pensioners Association - ECPv6.15.20//NONSGML v1.0//EN
CALSCALE:GREGORIAN
METHOD:PUBLISH
X-ORIGINAL-URL:https://nlpspa.ca
X-WR-CALDESC:Events for NL Pensioners Association
REFRESH-INTERVAL;VALUE=DURATION:PT1H
X-Robots-Tag:noindex
X-PUBLISHED-TTL:PT1H
BEGIN:VTIMEZONE
TZID:America/St_Johns
BEGIN:DAYLIGHT
TZOFFSETFROM:-0330
TZOFFSETTO:-0230
TZNAME:NDT
DTSTART:20230312T053000
END:DAYLIGHT
BEGIN:STANDARD
TZOFFSETFROM:-0230
TZOFFSETTO:-0330
TZNAME:NST
DTSTART:20231105T043000
END:STANDARD
BEGIN:DAYLIGHT
TZOFFSETFROM:-0330
TZOFFSETTO:-0230
TZNAME:NDT
DTSTART:20240310T053000
END:DAYLIGHT
BEGIN:STANDARD
TZOFFSETFROM:-0230
TZOFFSETTO:-0330
TZNAME:NST
DTSTART:20241103T043000
END:STANDARD
BEGIN:DAYLIGHT
TZOFFSETFROM:-0330
TZOFFSETTO:-0230
TZNAME:NDT
DTSTART:20250309T053000
END:DAYLIGHT
BEGIN:STANDARD
TZOFFSETFROM:-0230
TZOFFSETTO:-0330
TZNAME:NST
DTSTART:20251102T043000
END:STANDARD
END:VTIMEZONE
BEGIN:VEVENT
DTSTART;TZID=America/St_Johns:20240206T100000
DTEND;TZID=America/St_Johns:20240206T160000
DTSTAMP:20260423T021245
CREATED:20240102T153002Z
LAST-MODIFIED:20240102T153348Z
UID:2151-1707213600-1707235200@nlpspa.ca
SUMMARY:TechKNOWtutors: Email & Communication
DESCRIPTION:February 6\, 2024\n10 am – 12 pm (in-person)\nor \n2 pm – 4pm (online) \nEmail & Communication: \n\nHow to set up and manage your email account\nHow to write\, send and reply emails\nBest email practices \nHow to use Zoom\n\nRegister here \nAny questions? Email us at: techknowtutors@communitysector.ca
URL:https://nlpspa.ca/event/techknowtutors-email-communication/
LOCATION:techKNOWtutors\, 25 Anderson Avenue\, St. John's\, NL\, Canada
CATEGORIES:NLPSPA Event
ORGANIZER;CN="NLPSPA":MAILTO:pensioners@npspa.ca
END:VEVENT
BEGIN:VEVENT
DTSTART;TZID=America/St_Johns:20240207T093000
DTEND;TZID=America/St_Johns:20240207T110000
DTSTAMP:20260423T021245
CREATED:20240129T145208Z
LAST-MODIFIED:20240129T145339Z
UID:2233-1707298200-1707303600@nlpspa.ca
SUMMARY:Seniors NL Let's Talk About...Service Canada
DESCRIPTION:This is a LIVE Session ONLY – this will NOT be RECORDED. \nService Canada Programs and Services for Seniors. \nThe session will cover some of Service Canada’s programs and services that may be of interest to seniors.  \n• The Canada Pension Plan Program:  \n\nRetirement \nSurvivors’ Benefits \nDisability Benefits \n\n• Old Age Security and the Guaranteed Income Supplement  \n• Online Services:  \n\nMy Service Canada Account \nRetirement Hub \neService Request \n\nGuest Speaker: Angela Champion (she/her/hers – elle)\, Citizen Services Specialist\, Citizen Services Branch — Atlantic Region\, Service Canada / Government of Canada \nWednesday\, February 7\, 2024 \n9:30-11:00 AM (Island time)\, 9:00-10:30 AM (Labrador time)  \nClick here to register 
URL:https://nlpspa.ca/event/seniors-nl-lets-talk-about-service-canada/
LOCATION:Virtual Meeting
CATEGORIES:Seniors NL
ATTACH;FMTTYPE=image/jpeg:https://nlpspa.ca/wp-content/uploads/2023/09/Picture1.jpg
ORGANIZER;CN="Seniors NL":MAILTO:outreach@seniorsnl.ca
END:VEVENT
BEGIN:VEVENT
DTSTART;TZID=America/St_Johns:20240213T193000
DTEND;TZID=America/St_Johns:20240213T203000
DTSTAMP:20260423T021245
CREATED:20240130T144252Z
LAST-MODIFIED:20240130T144425Z
UID:2242-1707852600-1707856200@nlpspa.ca
SUMMARY:CARP Presents: Filliday Quartet
DESCRIPTION:Join us for a delightful evening of music and song in preparation for Valentine’s Day!! \nFilliday is a vocal quartet and have been singing for 16 years. The name comes from the Dictionary of Newfoundland English as a description\, by Capt. Whitbourne in 1623 of the local singing birds. The quartet is based in St. John’s and includes Judy Gibbons\, Gary Jeffrey\, Kathy Ann Mahoney (Holyrood)\, and Rick Tucker (Paradise). \nThey will sing several love songs for Valentine’s Day\, as well as folk\, traditional\, and easy listening selections. \nJoin us on Tuesday\, February 13th for a delightul hour of relaxation. \nRegister Here
URL:https://nlpspa.ca/event/filliday-quartet-2/
LOCATION:Virtual Meeting
CATEGORIES:CARP NL Event
ATTACH;FMTTYPE=image/jpeg:https://nlpspa.ca/wp-content/uploads/2024/01/Quartet.jpg
END:VEVENT
BEGIN:VEVENT
DTSTART;TZID=America/St_Johns:20240215T100000
DTEND;TZID=America/St_Johns:20240215T160000
DTSTAMP:20260423T021245
CREATED:20240116T134140Z
LAST-MODIFIED:20240116T134215Z
UID:2188-1707991200-1708012800@nlpspa.ca
SUMMARY:TechKNOWtutors: Digital Basics
DESCRIPTION:NLPSPA is pleased to partner with the TechKNOWtutors Program to offer a series of one-day beginner level digital learning workshops in key locations on the West Coast. Each workshop will begin at 10:00 AM on the date specified and will conclude at approximately 4:00 PM. Registrants are encouraged to arrive 30 minutes in advance to ensure the session starts on time. Please bring along your iPhone\, smartphone\, iPad\, or whatever other portable electronic device you use for accessing online communication.  \nThe curriculum is as follows: \n\n Digital Basics: \n\n\nIntroduction to computers\, operating systems\, and common hardware components\nNavigating the desktop\, files\, and folders\nUnderstanding basic computer terminology\n\n\n Internet Fundamentals: \n\n\nIntroduction to web browsers and their features\nConducting effective web searches\nUnderstanding website navigation and URL structures\nExploring online resources and tools\n\n\n Email and Communication: \n\n\nSetting up and managing email accounts\nComposing\, sending\, and replying to emails\nUnderstanding email etiquette and best practices\nIntroduction to video conferencing and instant messaging tools\n\nFebruary 15th\, Reidville at the Reidville Community Centre\, 2 Community Square. Click here to register.
URL:https://nlpspa.ca/event/techknowtutors/
LOCATION:Reidville Community Centre\, 2 Community Square\, Reidville\, NL\, A8A 2V7\, Canada
ORGANIZER;CN="NLPSPA":MAILTO:pensioners@npspa.ca
END:VEVENT
BEGIN:VEVENT
DTSTART;TZID=America/St_Johns:20240216T100000
DTEND;TZID=America/St_Johns:20240216T160000
DTSTAMP:20260423T021245
CREATED:20240116T134540Z
LAST-MODIFIED:20240116T140700Z
UID:2189-1708077600-1708099200@nlpspa.ca
SUMMARY:TechKNOWtutors: Digital Basics
DESCRIPTION:NLPSPA is pleased to partner with the TechKNOWtutors Program to offer a series of one-day beginner level digital learning workshops in key locations on the West Coast. Each workshop will begin at 10:00 AM on the date specified and will conclude at approximately 4:00 PM. Registrants are encouraged to arrive 30 minutes in advance to ensure the session starts on time. Please bring along your iPhone\, smartphone\, iPad\, or whatever other portable electronic device you use for accessing online communication.  \nThe curriculum is as follows: \n\n Digital Basics: \n\n\nIntroduction to computers\, operating systems\, and common hardware components\nNavigating the desktop\, files\, and folders\nUnderstanding basic computer terminology\n\n\n Internet Fundamentals: \n\n\nIntroduction to web browsers and their features\nConducting effective web searches\nUnderstanding website navigation and URL structures\nExploring online resources and tools\n\n\n Email and Communication: \n\n\nSetting up and managing email accounts\nComposing\, sending\, and replying to emails\nUnderstanding email etiquette and best practices\nIntroduction to video conferencing and instant messaging tools\nFebruary 16th Deer Lake at the Caribou 50+ Club\, Hospital Square. Click here to register.
URL:https://nlpspa.ca/event/techknowtutors-digital-basics-2/
LOCATION:Caribou 50+ Club\, Hospital Square\, Deer Lake\, NL\, Canada
CATEGORIES:NLPSPA Event
ORGANIZER;CN="NLPSPA":MAILTO:pensioners@npspa.ca
END:VEVENT
BEGIN:VEVENT
DTSTART;TZID=America/St_Johns:20240220T100000
DTEND;TZID=America/St_Johns:20240220T160000
DTSTAMP:20260423T021245
CREATED:20240116T134842Z
LAST-MODIFIED:20240116T135141Z
UID:2190-1708423200-1708444800@nlpspa.ca
SUMMARY:TechKNOWtutors: Digital Basics
DESCRIPTION:NLPSPA is pleased to partner with the TechKNOWtutors Program to offer a series of one-day beginner level digital learning workshops in key locations on the West Coast. Each workshop will begin at 10:00 AM on the date specified and will conclude at approximately 4:00 PM. Registrants are encouraged to arrive 30 minutes in advance to ensure the session starts on time. Please bring along your iPhone\, smartphone\, iPad\, or whatever other portable electronic device you use for accessing online communication.  \nThe curriculum is as follows: \n\n Digital Basics: \n\n\nIntroduction to computers\, operating systems\, and common hardware components\nNavigating the desktop\, files\, and folders\nUnderstanding basic computer terminology\n\n\n Internet Fundamentals: \n\n\nIntroduction to web browsers and their features\nConducting effective web searches\nUnderstanding website navigation and URL structures\nExploring online resources and tools\n\n\n Email and Communication: \n\n\nSetting up and managing email accounts\nComposing\, sending\, and replying to emails\nUnderstanding email etiquette and best practices\nIntroduction to video conferencing and instant messaging tools\n\nFebruary 20th Corner Brook at the Center of Research and Innovation\, 1 Mill Road. Click here to register.
URL:https://nlpspa.ca/event/techknowtutors-digital-basics-3/
LOCATION:Center of Research and Innovation\, 1 Mill Road\, Corner Brook\, NL\, A2H 1C2\, Canada
CATEGORIES:NLPSPA Event
ORGANIZER;CN="NLPSPA":MAILTO:pensioners@npspa.ca
END:VEVENT
BEGIN:VEVENT
DTSTART;TZID=America/St_Johns:20240227T100000
DTEND;TZID=America/St_Johns:20240227T160000
DTSTAMP:20260423T021245
CREATED:20240102T153223Z
LAST-MODIFIED:20240102T153323Z
UID:2153-1709028000-1709049600@nlpspa.ca
SUMMARY:TechKNOWtutors: MyGovNL
DESCRIPTION:February 27\, 2024\n10 am – 12 pm (in-person)\nor \n2 pm – 4pm (online) \nMyGovNL: \n\nHow to create a MyGovNL account\nThe online services you can access through MyGovNL\nHow to renew your MCP Card\nHow to renew your driver’s license and vehicle registration \n\nRegister here \nAny questions? Email us at: techknowtutors@communitysector.ca
URL:https://nlpspa.ca/event/techknowtutors-mygovnl/
LOCATION:techKNOWtutors\, 25 Anderson Avenue\, St. John's\, NL\, Canada
CATEGORIES:NLPSPA Event
ORGANIZER;CN="NLPSPA":MAILTO:pensioners@npspa.ca
END:VEVENT
BEGIN:VEVENT
DTSTART;TZID=America/St_Johns:20240228T100000
DTEND;TZID=America/St_Johns:20240228T160000
DTSTAMP:20260423T021245
CREATED:20240212T144108Z
LAST-MODIFIED:20240212T144113Z
UID:2377-1709114400-1709136000@nlpspa.ca
SUMMARY:techKNOWtutors Stephenville Session
DESCRIPTION:NLPSPA is pleased to partner with the TechKNOWtutors Program to offer a series of one-day beginner level digital learning workshops in key locations on the West Coast. Each workshop will begin at 10:00 AM on the date specified and will conclude at approximately 4:00 PM. Registrants are encouraged to arrive 30 minutes in advance to ensure the session starts on time. Please bring along your iPhone\, smartphone\, iPad\, or whatever other portable electronic device you use for accessing online communication.  \nThe curriculum is as follows: \n\nDigital Basics: \n\n\nIntroduction to computers\, operating systems\, and common hardware components\nNavigating the desktop\, files\, and folders\nUnderstanding basic computer terminology\n\n\nInternet Fundamentals: \n\n\nIntroduction to web browsers and their features\nConducting effective web searches\nUnderstanding website navigation and URL structures\nExploring online resources and tools\n\n\nEmail and Communication: \n\n\nSetting up and managing email accounts\nComposing\, sending\, and replying to emails\nUnderstanding email etiquette and best practices\nIntroduction to video conferencing and instant messaging tools\n\nRegister here: https://form.jotform.com/240375382926260
URL:https://nlpspa.ca/event/techknowtutors-stephenville-session/
LOCATION:Zion Pentecostal Church\, 51 Carolina Drive\, Stephenville\, NL\, Canada
CATEGORIES:NLPSPA Event
ATTACH;FMTTYPE=image/png:https://nlpspa.ca/wp-content/uploads/2024/02/Stephenville-no-logo.png
ORGANIZER;CN="NLPSPA":MAILTO:pensioners@npspa.ca
END:VEVENT
END:VCALENDAR