BEGIN:VCALENDAR
VERSION:2.0
PRODID:-//NL Pensioners Association - ECPv6.15.20//NONSGML v1.0//EN
CALSCALE:GREGORIAN
METHOD:PUBLISH
X-ORIGINAL-URL:https://nlpspa.ca
X-WR-CALDESC:Events for NL Pensioners Association
REFRESH-INTERVAL;VALUE=DURATION:PT1H
X-Robots-Tag:noindex
X-PUBLISHED-TTL:PT1H
BEGIN:VTIMEZONE
TZID:America/St_Johns
BEGIN:DAYLIGHT
TZOFFSETFROM:-0330
TZOFFSETTO:-0230
TZNAME:NDT
DTSTART:20230312T053000
END:DAYLIGHT
BEGIN:STANDARD
TZOFFSETFROM:-0230
TZOFFSETTO:-0330
TZNAME:NST
DTSTART:20231105T043000
END:STANDARD
BEGIN:DAYLIGHT
TZOFFSETFROM:-0330
TZOFFSETTO:-0230
TZNAME:NDT
DTSTART:20240310T053000
END:DAYLIGHT
BEGIN:STANDARD
TZOFFSETFROM:-0230
TZOFFSETTO:-0330
TZNAME:NST
DTSTART:20241103T043000
END:STANDARD
BEGIN:DAYLIGHT
TZOFFSETFROM:-0330
TZOFFSETTO:-0230
TZNAME:NDT
DTSTART:20250309T053000
END:DAYLIGHT
BEGIN:STANDARD
TZOFFSETFROM:-0230
TZOFFSETTO:-0330
TZNAME:NST
DTSTART:20251102T043000
END:STANDARD
END:VTIMEZONE
BEGIN:VEVENT
DTSTART;TZID=America/St_Johns:20240105T183000
DTEND;TZID=America/St_Johns:20240105T183000
DTSTAMP:20260423T034759
CREATED:20231026T163907Z
LAST-MODIFIED:20240104T165916Z
UID:1981-1704479400-1704479400@nlpspa.ca
SUMMARY:NLPSPA CHRISTMAS DINNER AND DANCE
DESCRIPTION:Due to the warnings about significant snowfall and high winds\, the NLPSPA Dinner and Dance scheduled for Friday\, January 5\, 2024\, at the Knights of Columbus Building in St. John’s is CANCELLED.  \nRegardless of method of payment (credit card\, cheque or cash) a refund cheque will be issued and mailed to you.  It will take a bit of time to process all the refunds\, so we respectfully ask your patience while we work through these payments. Tickets can be destroyed\, they do not need to be returned. If you purchased a table of tickets\, we ask that you inform your friends of the cancelation and the ticket refunds.  \nWe sincerely hope that next year will see better weather and we will be able to gather for the next holiday dinner and dance celebration. Our next year’s event is already booked for January 3\, 2025\, so mark your calendars now. \nStay safe and well\, everyone. \nSincerely\,\nSharron Callahan\nExecutive Director
URL:https://nlpspa.ca/event/nlpspa-christmas-dinner-and-dance/
LOCATION:Knights of Columbus\, 49 St Clare Ave\, St. John's\, NL\, A1C2J9\, Canada
CATEGORIES:NLPSPA Event
ATTACH;FMTTYPE=image/jpeg:https://nlpspa.ca/wp-content/uploads/2023/01/Logo.jpg
ORGANIZER;CN="NLPSPA":MAILTO:pensioners@npspa.ca
END:VEVENT
BEGIN:VEVENT
DTSTART;TZID=America/St_Johns:20240111T093000
DTEND;TZID=America/St_Johns:20240111T093000
DTSTAMP:20260423T034759
CREATED:20231027T161757Z
LAST-MODIFIED:20240104T170724Z
UID:1992-1704965400-1704965400@nlpspa.ca
SUMMARY:NLPSPA Board Meeting
DESCRIPTION:Rescheduled to January 11\, 2024 @ 9:30am via zoom. \nJanuary 5\, 2024\, @ 9:30 AM In-Person\, Flight Deck\, Comfort Hotel 
URL:https://nlpspa.ca/event/nlpspa-board-meeting-2/
LOCATION:Virtual Meeting
CATEGORIES:NLPSPA Event
ATTACH;FMTTYPE=image/jpeg:https://nlpspa.ca/wp-content/uploads/2023/01/Logo.jpg
ORGANIZER;CN="NLPSPA":MAILTO:pensioners@npspa.ca
END:VEVENT
BEGIN:VEVENT
DTSTART;TZID=America/St_Johns:20240123T100000
DTEND;TZID=America/St_Johns:20240123T160000
DTSTAMP:20260423T034759
CREATED:20240102T152342Z
LAST-MODIFIED:20240102T152513Z
UID:2145-1706004000-1706025600@nlpspa.ca
SUMMARY:TechKNOWtutors: Digital Basics
DESCRIPTION:January 23\, 2024\n10 am – 12 pm (in-person)\nor \n2 pm – 4pm (online) \nDigital Basics: \n\nIntroduction to computers and their operating systems\nHow to navigate the desktop and look for files \nBasic computer terminology\n\nRegister here \nAny questions? Email us at: techknowtutors@communitysector.ca
URL:https://nlpspa.ca/event/techknowtutors-digital-basics/
LOCATION:techKNOWtutors\, 25 Anderson Avenue\, St. John's\, NL\, Canada
CATEGORIES:NLPSPA Event
ORGANIZER;CN="NLPSPA":MAILTO:pensioners@npspa.ca
END:VEVENT
BEGIN:VEVENT
DTSTART;TZID=America/St_Johns:20240130T100000
DTEND;TZID=America/St_Johns:20240130T160000
DTSTAMP:20260423T034759
CREATED:20240102T152718Z
LAST-MODIFIED:20240102T152718Z
UID:2149-1706608800-1706630400@nlpspa.ca
SUMMARY:TechKNOWtutors: Internet Fundamentals
DESCRIPTION:January 30\, 2024\n10 am – 12 pm (in-person)\nor \n2 pm – 4pm (online) \nInternet Fundamentals: \n\nHow to connect to the Internet\nConducting effective Internet searches\nElements of a website\nHow to know if a website is secure\n\nRegister here \nAny questions? Email us at: techknowtutors@communitysector.ca
URL:https://nlpspa.ca/event/techknowtutors-internet-fundamentals/
LOCATION:techKNOWtutors\, 25 Anderson Avenue\, St. John's\, NL\, Canada
CATEGORIES:NLPSPA Event
ORGANIZER;CN="NLPSPA":MAILTO:pensioners@npspa.ca
END:VEVENT
END:VCALENDAR