BEGIN:VCALENDAR
VERSION:2.0
PRODID:-//NL Pensioners Association - ECPv6.15.20//NONSGML v1.0//EN
CALSCALE:GREGORIAN
METHOD:PUBLISH
X-ORIGINAL-URL:https://nlpspa.ca
X-WR-CALDESC:Events for NL Pensioners Association
REFRESH-INTERVAL;VALUE=DURATION:PT1H
X-Robots-Tag:noindex
X-PUBLISHED-TTL:PT1H
BEGIN:VTIMEZONE
TZID:America/St_Johns
BEGIN:DAYLIGHT
TZOFFSETFROM:-0330
TZOFFSETTO:-0230
TZNAME:NDT
DTSTART:20220313T053000
END:DAYLIGHT
BEGIN:STANDARD
TZOFFSETFROM:-0230
TZOFFSETTO:-0330
TZNAME:NST
DTSTART:20221106T043000
END:STANDARD
BEGIN:DAYLIGHT
TZOFFSETFROM:-0330
TZOFFSETTO:-0230
TZNAME:NDT
DTSTART:20230312T053000
END:DAYLIGHT
BEGIN:STANDARD
TZOFFSETFROM:-0230
TZOFFSETTO:-0330
TZNAME:NST
DTSTART:20231105T043000
END:STANDARD
BEGIN:DAYLIGHT
TZOFFSETFROM:-0330
TZOFFSETTO:-0230
TZNAME:NDT
DTSTART:20240310T053000
END:DAYLIGHT
BEGIN:STANDARD
TZOFFSETFROM:-0230
TZOFFSETTO:-0330
TZNAME:NST
DTSTART:20241103T043000
END:STANDARD
END:VTIMEZONE
BEGIN:VEVENT
DTSTART;TZID=America/St_Johns:20231205T100000
DTEND;TZID=America/St_Johns:20231205T160000
DTSTAMP:20260423T052449
CREATED:20231116T132404Z
LAST-MODIFIED:20231116T132404Z
UID:2058-1701770400-1701792000@nlpspa.ca
SUMMARY:Online banking and CRA Services
DESCRIPTION:Session #1 (link to register is the next line) \nOnline Banking + CRA – December 5 \nNLPSPA and techKNOWtutors are pleased to announce a series of workshops to get you ready for the winter months. This session is in-person. \nIn this first workshop\, you’ll learn: \n\nHow to use mobile banking apps\nMobile deposits and transfers\nSecurity features of online banking\nHow to protect against banking scams\nHow to set up your CRA account on your phone\n\nDate: December 5th\, 2023 \nTime: 10 am to 12 pm; 2 pm to 4 pm; \nLocation: 25 Anderson Avenue\, St. John’s
URL:https://nlpspa.ca/event/online-banking-and-cra-services/
LOCATION:techKNOWtutors\, 25 Anderson Avenue\, St. John's\, NL\, Canada
CATEGORIES:NLPSPA Event
ORGANIZER;CN="Community Sector Council":MAILTO:techknowtutors@communitysector.ca
END:VEVENT
BEGIN:VEVENT
DTSTART;TZID=America/St_Johns:20231206T093000
DTEND;TZID=America/St_Johns:20231206T110000
DTSTAMP:20260423T052449
CREATED:20231129T173258Z
LAST-MODIFIED:20231129T173418Z
UID:2090-1701855000-1701860400@nlpspa.ca
SUMMARY:SeniorsNL Zoom Session: Just Ask SeniorsNL…Anything
DESCRIPTION:Join us for a session to find out about the resources and services most commonly used by seniors who call our Information Line\, as well as some resources that you might not even know exist! \nHave a question about a service for seniors?  Need a resource? \nWe will make time to answer your questions during the presentation. \nClick here to register \nGuest speaker: Elizabeth Siegel\, Director of Information and Referral Services\, SeniorsNL \n\nYou can ask a question when you register\, and we will send it to our presenter. You will be able to ask questions at the session as well.\nThis session will be captioned.\nThis session will be recorded.\nIndicate during registration if sign language interpretation is required.\nAfter registering\, you will receive a confirmation email containing information about joining the meeting. We ask\, however\, that you do not share your confirmation\, as the ID number in the confirmation is yours alone and should not be shared.  Feel free\, however\, to share this Zoom meeting invitation as others may like to register as well.\nCertificates will be available upon request to participants for job-related professional development or post-secondary education. (You must be in attendance the entire session)\n\nReminder about NL Public Libraries: (NLPL) \n\nIf you know someone who would be interested in attending this session\, however\, they don’t have a computer\, our NL Public Libraries have computers available to the public. \nSome of the NL Public Libraries may also be equipped for group sessions.\n\nWebsite to locate your nearest Library:  https://nlpl.ca/
URL:https://nlpspa.ca/event/seniorsnl-zoom-session-just-ask-seniorsnlanything/
LOCATION:Virtual Meeting
CATEGORIES:Seniors NL
ATTACH;FMTTYPE=image/jpeg:https://nlpspa.ca/wp-content/uploads/2023/09/Picture1.jpg
ORGANIZER;CN="Seniors NL":MAILTO:outreach@seniorsnl.ca
END:VEVENT
BEGIN:VEVENT
DTSTART;TZID=America/St_Johns:20231207T093000
DTEND;TZID=America/St_Johns:20231207T093000
DTSTAMP:20260423T052449
CREATED:20231027T161459Z
LAST-MODIFIED:20231027T161541Z
UID:1989-1701941400-1701941400@nlpspa.ca
SUMMARY:NLPSPA Board Meeting
DESCRIPTION:December 7\, 2023\, @ 9:30 AM via zoom 
URL:https://nlpspa.ca/event/nlpspa-board-meeting/
LOCATION:Virtual Meeting
CATEGORIES:NLPSPA Event
ATTACH;FMTTYPE=image/jpeg:https://nlpspa.ca/wp-content/uploads/2023/01/Logo.jpg
ORGANIZER;CN="NLPSPA":MAILTO:pensioners@npspa.ca
END:VEVENT
BEGIN:VEVENT
DTSTART;TZID=America/St_Johns:20231207T190000
DTEND;TZID=America/St_Johns:20231207T190000
DTSTAMP:20260423T052449
CREATED:20231120T132821Z
LAST-MODIFIED:20231120T132826Z
UID:2067-1701975600-1701975600@nlpspa.ca
SUMMARY:Cloudberries Choir: Christmas at the Movies
DESCRIPTION:NLPSPA and C.A.R.P. NL will co-present:\nChristmas at the Movies\nWith the Cloudberries Choir\nDirected by Sherry Crowley\, Accompanied by Judy Parsons Kirby \nFor this season\, the Cloudberries Choir have chosen a much lighter selection of Christmas music and songs for your enjoyment and listening pleasure. The Choir will present “Christmas at the Movies” for our 2023 enjoyment with great tunes from many of your favorite Christmas movies. We hope you enjoy this performance. Merry Christmas to all from your friends from the Cloudberries Choir. \nThe Cloudberries Choir is a community choir based in Holyrood. They perform two concerts each year\, one at Christmas time and one in the spring. They have performed almost all genres\, including show tunes\, movie themes\, rock\, country-western\, songs of the 50’s-60’s and\, their most loved\, Gospel tunes\, to name a few. They have performed at seniors’ homes\, churches and other venues in various towns and communities around the Avalon\, to spread the joy of music and song\, as these opportunities arise. \nTo register for this exciting evening event of music and song from the movies\, please click on the registration link below: \nhttps://us06web.zoom.us/meeting/register/tZ0pf-GtrzMrGN0mtUvdZ230gP54vAaCoOo5
URL:https://nlpspa.ca/event/cloudberries-choir-christmas-at-the-movies/
LOCATION:Virtual Meeting
CATEGORIES:NLPSPA Event
ATTACH;FMTTYPE=image/jpeg:https://nlpspa.ca/wp-content/uploads/2023/11/Picture1.jpg
ORGANIZER;CN="NLPSPA":MAILTO:pensioners@npspa.ca
END:VEVENT
BEGIN:VEVENT
DTSTART;TZID=America/St_Johns:20231212T100000
DTEND;TZID=America/St_Johns:20231212T160000
DTSTAMP:20260423T052449
CREATED:20231116T132814Z
LAST-MODIFIED:20231116T132814Z
UID:2065-1702375200-1702396800@nlpspa.ca
SUMMARY:Online Grocery Shopping
DESCRIPTION:Online Grocery Shopping – December 12th \nThis session is in-person and virtual. Please make ONE selection only. \nYou’ll learn: \n\nHow to choose the right online grocery store for your needs\nHow to set up your account online\nAbout the payment options available\nHow to schedule a delivery of pick-up\nHow to deal with common problems like out-of-stock items\, substitutions\, and returns\n\nDate: December 12th\, 2023 \nTime: 10 am to 12 pm; 2 pm to 4 pm; \nLocation: 25 Anderson Avenue\, St. John’s\, and virtual on Zoom.
URL:https://nlpspa.ca/event/online-grocery-shopping/
LOCATION:techKNOWtutors\, 25 Anderson Avenue\, St. John's\, NL\, Canada
CATEGORIES:NLPSPA Event
ORGANIZER;CN="Community Sector Council":MAILTO:techknowtutors@communitysector.ca
END:VEVENT
BEGIN:VEVENT
DTSTART;TZID=America/St_Johns:20231218T193000
DTEND;TZID=America/St_Johns:20231218T203000
DTSTAMP:20260423T052449
CREATED:20231207T142217Z
LAST-MODIFIED:20231207T142217Z
UID:2134-1702927800-1702931400@nlpspa.ca
SUMMARY:Christmas with the St. John's Choir
DESCRIPTION:Please join us for an evening of Christmas Music: \nMonday\, December 18th \n7:30pm to 8:30pm NL \n7:00pm to 8:00pm Labrador \nFamily and Friends are Invited. \nThe ST. JOHN`S CHOIR of St. John’s\, Newfoundland and Labrador is a true adult community choir whose members represent a broad section of St. John’s and its surrounding communities. The choir’s age group ranges from early twenties to seniors and its members are from all walks of life and educational levels. While some members have music degrees\, many others do not read music. Some have little or no choral experience\, but then\, many have experience in multiple choirs and groups. \nTwenty-five years ago the St. John’s Choir rose from the ashes of the defunct Extension Choir of Memorial University of Newfoundland when several of the extension choir groups persevered to keep their own choirs singing. Choir members have fond memories of their first director\, Dr. Ignatius Rumbolt. After the Choir’s first year\, Mrs. Patricia Young became a long term director and “Musical Mother”. \nOver the years\, the Choir has been guided by several well known directors. Currently\, Stephen Candow is the Artistic Director and Dr. Philip Roberts\, is the Accompanist\, Co-conductor and Chamber Choir Director. This year the St. John’s Choir is featuring the St. John’s Chamber Choir\, Bella Nova Choir\, Elizabeth Brennan (Director) and Etienne Gendron\, Guest Percussionist. Choir performs two main concerts a year\, Christmas and spring. It has participated in Festival 500 events\, the Kiwanis Music Festival\, at numerous national conventions\, local fund raisers\, and telethons. \nThe Choir is completely self-sufficient financially\, raising all of ther own funds. The Choir has a professional Director and Accompanist\, sings in four-part harmony and has a large and varied repertoire of songs ranging from Broadway show tunes to Classical pieces\, gospel to Newfoundland folk songs; and\, spirituals to popular music. Carolynn Spurvey is Vice-President of the Board of Directors. \nTo Register for this marvelous evening of music\, please click the link below.  \nhttps://us06web.zoom.us/meeting/register/tZcoduqgrTwsHNz0q41Y2kaqxfZrfe1dPfeP
URL:https://nlpspa.ca/event/christmas-with-the-st-johns-choir/
LOCATION:Virtual Meeting
CATEGORIES:CARP NL Event
ATTACH;FMTTYPE=image/jpeg:https://nlpspa.ca/wp-content/uploads/2023/12/pic.jpg
END:VEVENT
END:VCALENDAR