BEGIN:VCALENDAR
VERSION:2.0
PRODID:-//NL Pensioners Association - ECPv6.15.20//NONSGML v1.0//EN
CALSCALE:GREGORIAN
METHOD:PUBLISH
X-WR-CALNAME:NL Pensioners Association
X-ORIGINAL-URL:https://nlpspa.ca
X-WR-CALDESC:Events for NL Pensioners Association
REFRESH-INTERVAL;VALUE=DURATION:PT1H
X-Robots-Tag:noindex
X-PUBLISHED-TTL:PT1H
BEGIN:VTIMEZONE
TZID:America/St_Johns
BEGIN:DAYLIGHT
TZOFFSETFROM:-0330
TZOFFSETTO:-0230
TZNAME:NDT
DTSTART:20220313T053000
END:DAYLIGHT
BEGIN:STANDARD
TZOFFSETFROM:-0230
TZOFFSETTO:-0330
TZNAME:NST
DTSTART:20221106T043000
END:STANDARD
BEGIN:DAYLIGHT
TZOFFSETFROM:-0330
TZOFFSETTO:-0230
TZNAME:NDT
DTSTART:20230312T053000
END:DAYLIGHT
BEGIN:STANDARD
TZOFFSETFROM:-0230
TZOFFSETTO:-0330
TZNAME:NST
DTSTART:20231105T043000
END:STANDARD
BEGIN:DAYLIGHT
TZOFFSETFROM:-0330
TZOFFSETTO:-0230
TZNAME:NDT
DTSTART:20240310T053000
END:DAYLIGHT
BEGIN:STANDARD
TZOFFSETFROM:-0230
TZOFFSETTO:-0330
TZNAME:NST
DTSTART:20241103T043000
END:STANDARD
END:VTIMEZONE
BEGIN:VEVENT
DTSTART;TZID=America/St_Johns:20231101T093000
DTEND;TZID=America/St_Johns:20231101T110000
DTSTAMP:20260423T064727
CREATED:20231027T161032Z
LAST-MODIFIED:20231027T161032Z
UID:1987-1698831000-1698836400@nlpspa.ca
SUMMARY:SeniorsNL Zoom Session: Let's Talk About Common Law Rights
DESCRIPTION:During this session\, you’ll learn: \n\nWhat is the Public Legal Information Association of Newfoundland and Labrador (PLIAN)?\nLaws in Newfoundland and Labrador.\nCommon Law vs Married Couples\, differences between the two.\nFamily Law.\nWills and Estates.\n\nGuest Speaker: \nSara Hawkins:  Access to Justice Coordinator with the Public Legal Information Association of Newfoundland and Labrador (PLIAN) \nWednesday\, November 1\, 2023 \n9:30-11:00 AM (Island time)\, 9:00-10:30 AM (Labrador time) \nClick here to register \n\nYou can ask a question when you register\, and we will send it to our presenter. You will be able to ask questions at the session as well.\nThis session will be captioned.\nThis session will be recorded.\nIndicate during registration if sign language interpretation is required.\nAfter registering\, you will receive a confirmation email containing information about joining the meeting. We ask\, however\, that you do not share your confirmation\, as the ID number in the confirmation is yours alone and should not be shared.  Feel free\, however\, to share this Zoom meeting invitation as others may like to register as well.\nCertificates will be available upon request to participants for job-related professional development or post-secondary education. (You must be in attendance the entire session)
URL:https://nlpspa.ca/event/seniorsnl-zoom-session-lets-talk-about-common-law-rights/
LOCATION:Virtual Meeting
CATEGORIES:Seniors NL
ORGANIZER;CN="Seniors NL":MAILTO:outreach@seniorsnl.ca
END:VEVENT
BEGIN:VEVENT
DTSTART;TZID=America/St_Johns:20231102T133000
DTEND;TZID=America/St_Johns:20231102T153000
DTSTAMP:20260423T064727
CREATED:20230907T141658Z
LAST-MODIFIED:20230907T142211Z
UID:1873-1698931800-1698939000@nlpspa.ca
SUMMARY:Taking Care of Yourself
DESCRIPTION:Grief Support Group\nLiving with Loss \nTo register\, or for more information\, please contact Bereavement Services at 709-777-6959 or email griefandbereavement@easternhealth.ca
URL:https://nlpspa.ca/event/taking-care-of-yourself/
LOCATION:Virtual Meeting
ATTACH;FMTTYPE=image/png:https://nlpspa.ca/wp-content/uploads/2023/09/EH.png
ORGANIZER;CN="Grief and Bereavement":MAILTO:GriefandBereavement@easternhealth.ca
END:VEVENT
BEGIN:VEVENT
DTSTART;TZID=America/St_Johns:20231107T133000
DTEND;TZID=America/St_Johns:20231107T143000
DTSTAMP:20260423T064727
CREATED:20231025T120955Z
LAST-MODIFIED:20231025T120955Z
UID:1975-1699363800-1699367400@nlpspa.ca
SUMMARY:FPM 2023 webinar series - Move\, improve\, remove!
DESCRIPTION:Move your body:\nExercise and Physical Activity to Reduce the Risk of Falls\nDr. Tina Ziebart | Assistant Professor\, Western University in the School of Physical Therapy\nNov. 7\, 2023 | 12-1pm ET \nThis webinar will review the current evidence and provide some clinical pearls of wisdom on how exercise can help to reduce the risk of falls. Find out more and register.
URL:https://nlpspa.ca/event/fpm-2023-webinar-series-move-improve-remove/
LOCATION:Virtual Meeting
END:VEVENT
BEGIN:VEVENT
DTSTART;TZID=America/St_Johns:20231109T133000
DTEND;TZID=America/St_Johns:20231109T153000
DTSTAMP:20260423T064727
CREATED:20230907T141834Z
LAST-MODIFIED:20230907T141834Z
UID:1875-1699536600-1699543800@nlpspa.ca
SUMMARY:Grief and the Family
DESCRIPTION:Grief Support Group\nLiving with Loss \nTo register\, or for more information\, please contact Bereavement Services at 709-777-6959 or email griefandbereavement@easternhealth.ca
URL:https://nlpspa.ca/event/grief-and-the-family/
LOCATION:Virtual Meeting
ATTACH;FMTTYPE=image/png:https://nlpspa.ca/wp-content/uploads/2023/09/EH.png
ORGANIZER;CN="Grief and Bereavement":MAILTO:GriefandBereavement@easternhealth.ca
END:VEVENT
BEGIN:VEVENT
DTSTART;TZID=America/St_Johns:20231114T183000
DTEND;TZID=America/St_Johns:20231114T200000
DTSTAMP:20260423T064727
CREATED:20230110T152455Z
LAST-MODIFIED:20230110T152455Z
UID:1490-1699986600-1699992000@nlpspa.ca
SUMMARY:Grief and Bereavement Education Session
DESCRIPTION:Eastern Health Pastoral Care and Bereavement Services is offering a “Grief and Bereavement Education Session” scheduled on the second Tuesday of every month from 6:30-8:00pm via Zoom.  \nLink to Join Zoom Meeting: \nhttps://nlchi-nl-ca.zoom.us/j/96943532610?pwd=dkJwY3UrdEd4K3RQWWNzcEhsaFJyZz09  \n\nOr Dial-In: 1 780 666 014 \n\n\nMeeting ID: 969 4353 2610 \n\nPasscode: 583805 \nThese sessions will provide information on understanding grief\, guide you through the grieving process\, and give suggestions on what you can do to help yourself and others during this time of grief. The session will include a presentation\, videos and opportunity for discussion or to ask questions about grief.  These sessions are free and open to the general public.  \nFor further information\, please contact:      \nBereavement Services at 777-6959 or GriefandBereavement@easternhealth.ca  
URL:https://nlpspa.ca/event/grief-and-bereavement-education-session-10/
LOCATION:Virtual Meeting
CATEGORIES:Eastern Health Pastoral Care
ATTACH;FMTTYPE=image/png:https://nlpspa.ca/wp-content/uploads/2023/01/download.png
ORGANIZER;CN="Grief and Bereavement":MAILTO:GriefandBereavement@easternhealth.ca
END:VEVENT
BEGIN:VEVENT
DTSTART;TZID=America/St_Johns:20231116T133000
DTEND;TZID=America/St_Johns:20231116T143000
DTSTAMP:20260423T064727
CREATED:20231025T122548Z
LAST-MODIFIED:20231025T122548Z
UID:1977-1700141400-1700145000@nlpspa.ca
SUMMARY:FPM 2023 webinar series - Move\, improve\, remove!
DESCRIPTION:Improve your health\nMedication Considerations for Fall Prevention and Fall-Related Injury\nChris Fan-Lun | Pharmacy Clinical Coordinator\, Sunnybrook Health Sciences Centre\nNov. 16\, 2023 | 12-1pm ET \nThis webinar will explore the structured approach to medication review to improve identification of fall risk increasing drugs (FRIDs) and the role of deprescribing to reduce fall risk. Medication management considerations of fall-related injuries will be discussed in a case-based format. Find out more and register.
URL:https://nlpspa.ca/event/fpm-2023-webinar-series-move-improve-remove-2/
LOCATION:Virtual Meeting
END:VEVENT
BEGIN:VEVENT
DTSTART;TZID=America/St_Johns:20231116T133000
DTEND;TZID=America/St_Johns:20231116T153000
DTSTAMP:20260423T064727
CREATED:20230907T141925Z
LAST-MODIFIED:20230907T142128Z
UID:1877-1700141400-1700148600@nlpspa.ca
SUMMARY:Grief and Your Mental Health
DESCRIPTION:Grief Support Group\nLiving with Loss \nTo register\, or for more information\, please contact Bereavement Services at 709-777-6959 or email griefandbereavement@easternhealth.ca
URL:https://nlpspa.ca/event/grief-and-your-mental-health/
LOCATION:Virtual Meeting
ATTACH;FMTTYPE=image/png:https://nlpspa.ca/wp-content/uploads/2023/09/EH.png
ORGANIZER;CN="Grief and Bereavement":MAILTO:GriefandBereavement@easternhealth.ca
END:VEVENT
BEGIN:VEVENT
DTSTART;TZID=America/St_Johns:20231121T190000
DTEND;TZID=America/St_Johns:20231121T190000
DTSTAMP:20260423T064727
CREATED:20231031T123019Z
LAST-MODIFIED:20231031T123124Z
UID:2016-1700593200-1700593200@nlpspa.ca
SUMMARY:Wills & Estate Planning
DESCRIPTION:Presenting: Wills & Estate Planning\nTuesday\, November 21\, 2023 @ 7:00 PM \nNLPSPA is pleased to partner with Provident10 and the Public Legal Information Association of Newfoundland and Labrador\, to bring you a session on the importance of having a will\, when to update it\, pitfalls to avoid\, what to include\, what is probate and why/when\, what constitutes a valid will\, what is an Enduring Power of Attorney and the requirements and what is an Advanced Health Care Directive and the requirements. \nOur presenter is Sara Hawkins\, an Access to Justice Coordinator with the Public Legal Association of Newfoundland and Labrador. Sara has over 15 years’ experience as a paralegal and has worked with private firms\, legal aid\, the courts\, and non-profits. She has worked with all aspect of the law but has a passion for seniors who need help navigating the legal aspects of aging. When not at work you will see her volunteering as a first responder with St. John Ambulance or knitting while drinking coffee. \nEveryone is welcome to this event. \nPlease click on the link below to register. \nhttps://us06web.zoom.us/meeting/register/tZYlc-ioqz8tG901Oq8aWzJr1faZvqlEEUJ1 \nAfter registering\, you will receive a confirmation email containing information about joining the meeting. \n 
URL:https://nlpspa.ca/event/wills-estate-planning-2/
LOCATION:Virtual Meeting
CATEGORIES:NLPSPA Event
ORGANIZER;CN="NLPSPA":MAILTO:pensioners@npspa.ca
END:VEVENT
BEGIN:VEVENT
DTSTART;TZID=America/St_Johns:20231123T133000
DTEND;TZID=America/St_Johns:20231123T153000
DTSTAMP:20260423T064727
CREATED:20230907T142025Z
LAST-MODIFIED:20230907T142101Z
UID:1879-1700746200-1700753400@nlpspa.ca
SUMMARY:Your Journey of Healing
DESCRIPTION:Grief Support Group\nLiving with Loss \nTo register\, or for more information\, please contact Bereavement Services at 709-777-6959 or email griefandbereavement@easternhealth.ca
URL:https://nlpspa.ca/event/your-journey-of-healing/
LOCATION:Virtual Meeting
ATTACH;FMTTYPE=image/png:https://nlpspa.ca/wp-content/uploads/2023/09/EH.png
ORGANIZER;CN="Grief and Bereavement":MAILTO:GriefandBereavement@easternhealth.ca
END:VEVENT
BEGIN:VEVENT
DTSTART;TZID=America/St_Johns:20231127T140000
DTEND;TZID=America/St_Johns:20231127T140000
DTSTAMP:20260423T064727
CREATED:20230920T121322Z
LAST-MODIFIED:20231012T220217Z
UID:1899-1701093600-1701093600@nlpspa.ca
SUMMARY:INCOME TAX\, BENEFITS\, CREDITS\, & OTHER CRA SERVICES
DESCRIPTION:Benefits and credits can make a big difference to people in our community. The CRA’s CVITP and Benefits Outreach Program help people and the organizations that serve them to learn about the benefits of tax-filing\, the benefits and credits they may be eligible for\, and the supports available to help with completing an income tax and benefits return.  \nAs 2023 is closing\, our thoughts will soon turn to the dread of filing our annual tax returns. Once again\, NLPSPA and the member associations of the Coalition have engaged with representatives from the Canada Revenue Agency (CRA) to host an information session for seniors on income tax\, benefits\, credits\, how to prepare your taxes\, how to avoid payment interruptions\, and what services CRA can provide.   In addition to addressing these topics\, other subjects will also be addressed\, such as GST/HST credit\, disability tax credit\, pension income splitting\, and medical expenses\, etc.  CRA will also provide information on the Community Volunteer Income Tax Program\, online services and answer general questions you might have. \nOur presenter for this event will be Heather Angnatok from the CRA location in Happy Valley/Goose Bay\, Labrador. \nFollowing the presentation\, there will be time for questions and answers. \nEveryone is welcome for this most timely presentation.   \nPlease click on the link below to register for this event. \nRegister in advance for this meeting: \nhttps://us06web.zoom.us/meeting/register/tZcscOGhqD0qG9BITSP7aCYmnv4aFTfpVOU \nAfter registering\, you will receive a confirmation email containing information about joining the meeting.
URL:https://nlpspa.ca/event/income-tax-benefits-credits-other-cra-services/
LOCATION:Virtual Meeting
CATEGORIES:NLPSPA Event
ORGANIZER;CN="NLPSPA":MAILTO:pensioners@npspa.ca
END:VEVENT
BEGIN:VEVENT
DTSTART;TZID=America/St_Johns:20231128T133000
DTEND;TZID=America/St_Johns:20231128T143000
DTSTAMP:20260423T064727
CREATED:20231025T122719Z
LAST-MODIFIED:20231025T122719Z
UID:1979-1701178200-1701181800@nlpspa.ca
SUMMARY:FPM 2023 webinar series - Move\, improve\, remove!
DESCRIPTION:Remove hazards\nReducing the Risk of Falls by Removing Environmental Hazards: An Evidence-based Approach\nNancy Edwards | Distinguished Professor and Professor Emerita\, University of Ottawa\nNov. 28\, 2023 | 12-1pm ET \nThis webinar will focus on detecting\, reducing\, and removing fall risk hazards in the built environment. Evidence-based advocacy\, educational\, and behavioural approaches to reduce environmental hazards will be discussed. Find out more and register.
URL:https://nlpspa.ca/event/fpm-2023-webinar-series-move-improve-remove-3/
LOCATION:Virtual Meeting
END:VEVENT
BEGIN:VEVENT
DTSTART;TZID=America/St_Johns:20231129T093000
DTEND;TZID=America/St_Johns:20231129T110000
DTSTAMP:20260423T064727
CREATED:20231120T165114Z
LAST-MODIFIED:20231120T165319Z
UID:2070-1701250200-1701255600@nlpspa.ca
SUMMARY:Mental Wellness As We Age
DESCRIPTION:In this session\, you will learn about mental wellness and the factors that impact mental wellness as we age. You will also learn to recognize the signs of poor mental health and strategies to improve and maintain mental wellness.  \nGuest Speaker: Laura Vardy BA\, BSW\, RSW\, Mental Health Promotion Consultant\, NL Health Services \nClick here to register \n\nYou can ask questions when you register\, and we will send it to our presenter. You will be able to ask questions at the session as well.\nThis session will be captioned.\nThis session will be recorded.\nIndicate during registration if ASL interpretation is required.\nAfter registering\, you will receive a confirmation email containing information about joining the meeting. We ask\, however\, that you do not share your confirmation\, as the ID number in the confirmation is yours alone and should not be shared.  Feel free\, however\, to share this Zoom meeting invitation as others may like to register as well.\nCertificates will be available upon request to participants for job-related professional development or post-secondary education. (You must be in attendance the entire session)
URL:https://nlpspa.ca/event/mental-wellness-as-we-age/
LOCATION:Virtual Meeting
CATEGORIES:Seniors NL
ATTACH;FMTTYPE=image/jpeg:https://nlpspa.ca/wp-content/uploads/2023/09/Picture1.jpg
ORGANIZER;CN="Seniors NL":MAILTO:outreach@seniorsnl.ca
END:VEVENT
END:VCALENDAR