BEGIN:VCALENDAR
VERSION:2.0
PRODID:-//NL Pensioners Association - ECPv6.15.20//NONSGML v1.0//EN
CALSCALE:GREGORIAN
METHOD:PUBLISH
X-WR-CALNAME:NL Pensioners Association
X-ORIGINAL-URL:https://nlpspa.ca
X-WR-CALDESC:Events for NL Pensioners Association
REFRESH-INTERVAL;VALUE=DURATION:PT1H
X-Robots-Tag:noindex
X-PUBLISHED-TTL:PT1H
BEGIN:VTIMEZONE
TZID:America/St_Johns
BEGIN:DAYLIGHT
TZOFFSETFROM:-0330
TZOFFSETTO:-0230
TZNAME:NDT
DTSTART:20220313T053000
END:DAYLIGHT
BEGIN:STANDARD
TZOFFSETFROM:-0230
TZOFFSETTO:-0330
TZNAME:NST
DTSTART:20221106T043000
END:STANDARD
BEGIN:DAYLIGHT
TZOFFSETFROM:-0330
TZOFFSETTO:-0230
TZNAME:NDT
DTSTART:20230312T053000
END:DAYLIGHT
BEGIN:STANDARD
TZOFFSETFROM:-0230
TZOFFSETTO:-0330
TZNAME:NST
DTSTART:20231105T043000
END:STANDARD
BEGIN:DAYLIGHT
TZOFFSETFROM:-0330
TZOFFSETTO:-0230
TZNAME:NDT
DTSTART:20240310T053000
END:DAYLIGHT
BEGIN:STANDARD
TZOFFSETFROM:-0230
TZOFFSETTO:-0330
TZNAME:NST
DTSTART:20241103T043000
END:STANDARD
END:VTIMEZONE
BEGIN:VEVENT
DTSTART;TZID=America/St_Johns:20230907T080000
DTEND;TZID=America/St_Johns:20230907T170000
DTSTAMP:20260423T110341
CREATED:20230907T141457Z
LAST-MODIFIED:20230907T141457Z
UID:1869-1694073600-1694106000@nlpspa.ca
SUMMARY:Healthy Grieving
DESCRIPTION:Grief Support Group\nLiving with Loss \nTo register\, or for more information\, please contact Bereavement Services at 709-777-6959 or email griefandbereavement@easternhealth.ca
URL:https://nlpspa.ca/event/healthy-grieving/
LOCATION:Virtual Meeting
ATTACH;FMTTYPE=image/png:https://nlpspa.ca/wp-content/uploads/2023/09/EH.png
ORGANIZER;CN="Grief and Bereavement":MAILTO:GriefandBereavement@easternhealth.ca
END:VEVENT
BEGIN:VEVENT
DTSTART;TZID=America/St_Johns:20230911T143000
DTEND;TZID=America/St_Johns:20230911T143000
DTSTAMP:20260423T110341
CREATED:20230908T144111Z
LAST-MODIFIED:20230908T144400Z
UID:1884-1694442600-1694442600@nlpspa.ca
SUMMARY:Meeting with Minister Pike
DESCRIPTION:The Coalition are meeting with Minister Pike at the Confederation Building at 2:30pm.
URL:https://nlpspa.ca/event/meeting-with-minister-pike/
LOCATION:In-Person Meeting
CATEGORIES:Coalition Meeting
END:VEVENT
BEGIN:VEVENT
DTSTART;TZID=America/St_Johns:20230912T183000
DTEND;TZID=America/St_Johns:20230912T200000
DTSTAMP:20260423T110341
CREATED:20230110T152240Z
LAST-MODIFIED:20230110T152240Z
UID:1486-1694543400-1694548800@nlpspa.ca
SUMMARY:Grief and Bereavement Education Session
DESCRIPTION:Eastern Health Pastoral Care and Bereavement Services is offering a “Grief and Bereavement Education Session” scheduled on the second Tuesday of every month from 6:30-8:00pm via Zoom.  \nLink to Join Zoom Meeting: \nhttps://nlchi-nl-ca.zoom.us/j/96943532610?pwd=dkJwY3UrdEd4K3RQWWNzcEhsaFJyZz09  \n\nOr Dial-In: 1 780 666 014 \n\n\nMeeting ID: 969 4353 2610 \n\nPasscode: 583805 \nThese sessions will provide information on understanding grief\, guide you through the grieving process\, and give suggestions on what you can do to help yourself and others during this time of grief. The session will include a presentation\, videos and opportunity for discussion or to ask questions about grief.  These sessions are free and open to the general public.  \nFor further information\, please contact:      \nBereavement Services at 777-6959 or GriefandBereavement@easternhealth.ca  
URL:https://nlpspa.ca/event/grief-and-bereavement-education-session-8/
LOCATION:Virtual Meeting
CATEGORIES:Eastern Health Pastoral Care
ATTACH;FMTTYPE=image/png:https://nlpspa.ca/wp-content/uploads/2023/01/download.png
ORGANIZER;CN="Grief and Bereavement":MAILTO:GriefandBereavement@easternhealth.ca
END:VEVENT
BEGIN:VEVENT
DTSTART;TZID=America/St_Johns:20230913T183000
DTEND;TZID=America/St_Johns:20230913T183000
DTSTAMP:20260423T110341
CREATED:20230901T131748Z
LAST-MODIFIED:20230901T132946Z
UID:1836-1694629800-1694629800@nlpspa.ca
SUMMARY:Home Reader Service Information Sessions
DESCRIPTION:Wednesday September 13 @ 6:30pm (In Person)  \nDo you or a loved one have difficulty getting to the library in St John’s? This information session is for you. \nDan and Stacey will be providing information about our home reader service that helps connect readers with books. \nJoin us at the AC Hunter library or online via WebEx. \nPlease call 737-3950 to register.
URL:https://nlpspa.ca/event/nl-libraries-2/
LOCATION:AC Hunter Library\, 95 Allandale Road\, St\, NL\, A1B 3A3\, Canada
CATEGORIES:NL Public Libraries
ATTACH;FMTTYPE=image/png:https://nlpspa.ca/wp-content/uploads/2023/09/nlpl_logo-1.png
END:VEVENT
BEGIN:VEVENT
DTSTART;TZID=America/St_Johns:20230914T093000
DTEND;TZID=America/St_Johns:20230914T163000
DTSTAMP:20260423T110341
CREATED:20221022T023603Z
LAST-MODIFIED:20230828T154413Z
UID:1124-1694683800-1694709000@nlpspa.ca
SUMMARY:Board Meeting
DESCRIPTION:The Board Meeting will be a hybrid meeting. It will be held in the Board Room of the NLPSPA office for local Board Members and on zoom for out-of-town Board Members. The meeting begins at 9:30 am.
URL:https://nlpspa.ca/event/board-meeting-5/
LOCATION:Virtual Meeting
CATEGORIES:Board Meetings
ORGANIZER;CN="ED%3A Sharron Callahan":MAILTO:scallahan@npspa.ca
END:VEVENT
BEGIN:VEVENT
DTSTART;TZID=America/St_Johns:20230916T143000
DTEND;TZID=America/St_Johns:20230916T143000
DTSTAMP:20260423T110341
CREATED:20230901T132622Z
LAST-MODIFIED:20230901T132724Z
UID:1843-1694874600-1694874600@nlpspa.ca
SUMMARY:Computer Basics at the Library
DESCRIPTION:Saturday September 16 @ 2:30pm (In Person) \nFeel like the computer age has left you in the dust? What is hardware? How do you use a mouse? \nJoin us at the A.C. Hunter Library to find out these answers and more! \nPlease call the us to register at 709-737-3950​
URL:https://nlpspa.ca/event/computer-basics-the-library/
LOCATION:AC Hunter Library\, 95 Allandale Road\, St\, NL\, A1B 3A3\, Canada
CATEGORIES:NL Public Libraries
ATTACH;FMTTYPE=image/png:https://nlpspa.ca/wp-content/uploads/2023/09/nlpl_logo-1.png
END:VEVENT
BEGIN:VEVENT
DTSTART;TZID=America/St_Johns:20230920T123000
DTEND;TZID=America/St_Johns:20230920T123000
DTSTAMP:20260423T110341
CREATED:20230905T135549Z
LAST-MODIFIED:20230905T135647Z
UID:1856-1695213000-1695213000@nlpspa.ca
SUMMARY:Healthy Discussions: Redefining Wellness
DESCRIPTION:Healthy Discussions is a Quality of Care NL webinar series where we have quality conversations about health\, health care and social systems in Newfoundland and Labrador. \nOur goal is to engage with you on topics related to health care\, wellness and the health and social systems\, with the aim of continuing public conversations during the ongoing process of health transformation\, and contributing to the growth of a learning health and social system in Newfoundland and Labrador. \n\nRedefining Wellness\nThe World Health Organization defines health as a state of complete physical\, mental and social well-being and not merely the absence of disease or infirmity. What does the idea of ‘health’ mean to you? Join us for a discussion with Dr. Brenda Wilson about how we define and manage our health and wellness\, and the systems and resources that can help us on that journey. \nClick to Register
URL:https://nlpspa.ca/event/healthy-discussions-redefining-wellness/
LOCATION:Virtual Meeting
ATTACH;FMTTYPE=image/png:https://nlpspa.ca/wp-content/uploads/2023/09/61b29a66-7bd3-2c62-0967-c87172a4a025.png
ORGANIZER;CN="Quality of Care NL":MAILTO:info@qualityofcarenl.ca
END:VEVENT
BEGIN:VEVENT
DTSTART;TZID=America/St_Johns:20230920T183000
DTEND;TZID=America/St_Johns:20230920T183000
DTSTAMP:20260423T110341
CREATED:20230901T132041Z
LAST-MODIFIED:20230901T133005Z
UID:1839-1695234600-1695234600@nlpspa.ca
SUMMARY:Home Reader Service Information Sessions
DESCRIPTION:Wednesday September 20 @ 6:30pm (Virtual) \nDo you or a loved one have difficulty getting to the library in St John’s? This information session is for you. \nDan and Stacey will be providing information about our home reader service that helps connect readers with books. \nJoin us at the AC Hunter library or online via WebEx. \nPlease call 737-3950 to register.
URL:https://nlpspa.ca/event/nl-libraries-3/
LOCATION:Virtual Meeting
CATEGORIES:NL Public Libraries
ATTACH;FMTTYPE=image/png:https://nlpspa.ca/wp-content/uploads/2023/09/nlpl_logo-1.png
END:VEVENT
BEGIN:VEVENT
DTSTART;TZID=America/St_Johns:20230926T140000
DTEND;TZID=America/St_Johns:20230926T153000
DTSTAMP:20260423T110341
CREATED:20230905T125048Z
LAST-MODIFIED:20230905T125048Z
UID:1849-1695736800-1695742200@nlpspa.ca
SUMMARY:CRA in-person informational session
DESCRIPTION:At this session\, A Canada Revenue Agencey Outreach Officer will share information on: \n\nThe GST/HST credit\, disability tax credit (DTC)\, Canada caregiver credit and other credits available\nThe one-time top-up to the Canada housing benefit\nWays to do your taxes\, free-tax help through the Community Volunteer Income Tax Program for those with modest to no income and a simple tax situation\nScams and frauds\nDigital and other CRA service\n\nRegistration deadline Monday\, September 25th\nRegister now at Centreforlife@centreforlife.ca or call 709-579-1500
URL:https://nlpspa.ca/event/cra-in-person-informational-session/
LOCATION:Church of the Good Samaritan\, 10 St. Clare Avenue\, St. John's\, NL
ATTACH;FMTTYPE=image/jpeg:https://nlpspa.ca/wp-content/uploads/2023/09/pic.jpg
END:VEVENT
BEGIN:VEVENT
DTSTART;TZID=America/St_Johns:20230928T143000
DTEND;TZID=America/St_Johns:20230928T143000
DTSTAMP:20260423T110341
CREATED:20230901T131235Z
LAST-MODIFIED:20230901T132405Z
UID:1830-1695911400-1695911400@nlpspa.ca
SUMMARY:AC Hunter Library-Overdrive & Libby : An Introduction
DESCRIPTION:Want to read books on your tablet or smartphone?  \nWant to access our eLibrary?  \nFind out how in OverDrive & Libby: An Introduction.​ Our staff instructor will get your started! \nCall (709) 737-3950 to save your spot.​
URL:https://nlpspa.ca/event/nl-libraries/
LOCATION:AC Hunter Library\, 95 Allandale Road\, St\, NL\, A1B 3A3\, Canada
CATEGORIES:NL Public Libraries
ATTACH;FMTTYPE=image/png:https://nlpspa.ca/wp-content/uploads/2023/09/nlpl_logo-1.png
END:VEVENT
END:VCALENDAR