BEGIN:VCALENDAR
VERSION:2.0
PRODID:-//NL Pensioners Association - ECPv6.15.20//NONSGML v1.0//EN
CALSCALE:GREGORIAN
METHOD:PUBLISH
X-WR-CALNAME:NL Pensioners Association
X-ORIGINAL-URL:https://nlpspa.ca
X-WR-CALDESC:Events for NL Pensioners Association
REFRESH-INTERVAL;VALUE=DURATION:PT1H
X-Robots-Tag:noindex
X-PUBLISHED-TTL:PT1H
BEGIN:VTIMEZONE
TZID:America/St_Johns
BEGIN:DAYLIGHT
TZOFFSETFROM:-0330
TZOFFSETTO:-0230
TZNAME:NDT
DTSTART:20210314T053000
END:DAYLIGHT
BEGIN:STANDARD
TZOFFSETFROM:-0230
TZOFFSETTO:-0330
TZNAME:NST
DTSTART:20211107T043000
END:STANDARD
BEGIN:DAYLIGHT
TZOFFSETFROM:-0330
TZOFFSETTO:-0230
TZNAME:NDT
DTSTART:20220313T053000
END:DAYLIGHT
BEGIN:STANDARD
TZOFFSETFROM:-0230
TZOFFSETTO:-0330
TZNAME:NST
DTSTART:20221106T043000
END:STANDARD
BEGIN:DAYLIGHT
TZOFFSETFROM:-0330
TZOFFSETTO:-0230
TZNAME:NDT
DTSTART:20230312T053000
END:DAYLIGHT
BEGIN:STANDARD
TZOFFSETFROM:-0230
TZOFFSETTO:-0330
TZNAME:NST
DTSTART:20231105T043000
END:STANDARD
END:VTIMEZONE
BEGIN:VEVENT
DTSTART;TZID=America/St_Johns:20221012T143000
DTEND;TZID=America/St_Johns:20221013T133000
DTSTAMP:20260420T053437
CREATED:20220609T141316Z
LAST-MODIFIED:20220921T135716Z
UID:529-1665585000-1665667800@nlpspa.ca
SUMMARY:2022 Convention and 32ND AGM
DESCRIPTION:The 2022 NLPSPA Convention on will provide a variety of opportunities to support recovery from isolation\, to\nrenew friendships\, and to reconnect with community. It will take place at the Comfort Hotel and Conference Centre on 106 Airport Road in St. John’s. \nConvention fee\, including dinner on 12th\, continental breakfast and luncheon on 13th\, and resource\nmaterials\, is $50.00 with a 50% reduction for NLPSPA fee paying members. \nTo register please call our office at 709-754-5730 or toll-free 1-800-563-4188\nPayment must be received by September 30th\, 2022\, for registration to be confirmed.
URL:https://nlpspa.ca/event/2022-convention-and-32nd-agm/
END:VEVENT
END:VCALENDAR