BEGIN:VCALENDAR
VERSION:2.0
PRODID:-//NL Pensioners Association - ECPv6.15.20//NONSGML v1.0//EN
CALSCALE:GREGORIAN
METHOD:PUBLISH
X-WR-CALNAME:NL Pensioners Association
X-ORIGINAL-URL:https://nlpspa.ca
X-WR-CALDESC:Events for NL Pensioners Association
REFRESH-INTERVAL;VALUE=DURATION:PT1H
X-Robots-Tag:noindex
X-PUBLISHED-TTL:PT1H
BEGIN:VTIMEZONE
TZID:America/St_Johns
BEGIN:DAYLIGHT
TZOFFSETFROM:-0330
TZOFFSETTO:-0230
TZNAME:NDT
DTSTART:20210314T053000
END:DAYLIGHT
BEGIN:STANDARD
TZOFFSETFROM:-0230
TZOFFSETTO:-0330
TZNAME:NST
DTSTART:20211107T043000
END:STANDARD
BEGIN:DAYLIGHT
TZOFFSETFROM:-0330
TZOFFSETTO:-0230
TZNAME:NDT
DTSTART:20220313T053000
END:DAYLIGHT
BEGIN:STANDARD
TZOFFSETFROM:-0230
TZOFFSETTO:-0330
TZNAME:NST
DTSTART:20221106T043000
END:STANDARD
BEGIN:DAYLIGHT
TZOFFSETFROM:-0330
TZOFFSETTO:-0230
TZNAME:NDT
DTSTART:20230312T053000
END:DAYLIGHT
BEGIN:STANDARD
TZOFFSETFROM:-0230
TZOFFSETTO:-0330
TZNAME:NST
DTSTART:20231105T043000
END:STANDARD
END:VTIMEZONE
BEGIN:VEVENT
DTSTART;VALUE=DATE:20221101
DTEND;VALUE=DATE:20221102
DTSTAMP:20260423T060301
CREATED:20221023T154825Z
LAST-MODIFIED:20221027T224011Z
UID:1139-1667260800-1667347199@nlpspa.ca
SUMMARY:Seniors & Science - Johnson Geo Centre
DESCRIPTION:C.A.R.P. NL Is once again pleased to partner with MUN Botanical Gardens and the Johnson Geo Centre to offer a day of special events particularly designed for seniors. \nThis free event is open to all seniors and will offer information booths\, wellness activities\, access to the Geo Centre exhibits\, presentations by our science interpreters\, and more. Lunch is included for the first 100 registrants. \nJoin us for a morning or afternoon of learning and socializing whether you get a free lunch or not – you are welcome. Stay Curious! \nPlease register and choose either the morning OR afternoon. The morning event starts at 10 am and ends at 12:30 pm. The afternoon event starts at 12:30 pm and runs to 3 pm. \nTo Register follow the Link. Seniors & Science — Johnson Geo Centre in St. John’s
URL:https://nlpspa.ca/event/seniors-science-johnson-geo-centre-1st-session/
LOCATION:Johnson Geo Centre\, 175 Signal Hill Road\, St. John's
END:VEVENT
BEGIN:VEVENT
DTSTART;TZID=America/St_Johns:20221019T130000
DTEND;TZID=America/St_Johns:20221019T133000
DTSTAMP:20260423T060301
CREATED:20221017T173235Z
LAST-MODIFIED:20221017T173235Z
UID:1075-1666184400-1666186200@nlpspa.ca
SUMMARY:CRA: Be Scam Smart Webinar
DESCRIPTION:The Canada Revenue Agency (CRA) is hosting an interactive webinar to share information on: \n\nhow to identify fake CRA calls\, texts\, emails\, or mail\nhow to recognize legitimate communications from the CRA\nsteps you can take to protect yourself from scams\nwhat to do if you’re a victim of fraud\nhelpful services and tools\n\nParticipants will have the opportunity to ask questions throughout the webinar\, and we will be providing responses live. \nRegister Here: Be Scam Smart | Évitez les arnaques (collaboratevideo.net)
URL:https://nlpspa.ca/event/cra-be-scam-smart-webinar/
ORGANIZER;CN="Canada Revenue Agency (CRA)":MAILTO:CVITP.Atl.N.L@cra-arc.gc.ca
END:VEVENT
BEGIN:VEVENT
DTSTART;TZID=America/St_Johns:20221012T143000
DTEND;TZID=America/St_Johns:20221013T133000
DTSTAMP:20260423T060301
CREATED:20220609T141316Z
LAST-MODIFIED:20220921T135716Z
UID:529-1665585000-1665667800@nlpspa.ca
SUMMARY:2022 Convention and 32ND AGM
DESCRIPTION:The 2022 NLPSPA Convention on will provide a variety of opportunities to support recovery from isolation\, to\nrenew friendships\, and to reconnect with community. It will take place at the Comfort Hotel and Conference Centre on 106 Airport Road in St. John’s. \nConvention fee\, including dinner on 12th\, continental breakfast and luncheon on 13th\, and resource\nmaterials\, is $50.00 with a 50% reduction for NLPSPA fee paying members. \nTo register please call our office at 709-754-5730 or toll-free 1-800-563-4188\nPayment must be received by September 30th\, 2022\, for registration to be confirmed.
URL:https://nlpspa.ca/event/2022-convention-and-32nd-agm/
END:VEVENT
END:VCALENDAR