BEGIN:VCALENDAR
VERSION:2.0
PRODID:-//NL Pensioners Association - ECPv6.15.20//NONSGML v1.0//EN
CALSCALE:GREGORIAN
METHOD:PUBLISH
X-ORIGINAL-URL:https://nlpspa.ca
X-WR-CALDESC:Events for NL Pensioners Association
REFRESH-INTERVAL;VALUE=DURATION:PT1H
X-Robots-Tag:noindex
X-PUBLISHED-TTL:PT1H
BEGIN:VTIMEZONE
TZID:America/St_Johns
BEGIN:DAYLIGHT
TZOFFSETFROM:-0330
TZOFFSETTO:-0230
TZNAME:NDT
DTSTART:20230312T053000
END:DAYLIGHT
BEGIN:STANDARD
TZOFFSETFROM:-0230
TZOFFSETTO:-0330
TZNAME:NST
DTSTART:20231105T043000
END:STANDARD
BEGIN:DAYLIGHT
TZOFFSETFROM:-0330
TZOFFSETTO:-0230
TZNAME:NDT
DTSTART:20240310T053000
END:DAYLIGHT
BEGIN:STANDARD
TZOFFSETFROM:-0230
TZOFFSETTO:-0330
TZNAME:NST
DTSTART:20241103T043000
END:STANDARD
BEGIN:DAYLIGHT
TZOFFSETFROM:-0330
TZOFFSETTO:-0230
TZNAME:NDT
DTSTART:20250309T053000
END:DAYLIGHT
BEGIN:STANDARD
TZOFFSETFROM:-0230
TZOFFSETTO:-0330
TZNAME:NST
DTSTART:20251102T043000
END:STANDARD
END:VTIMEZONE
BEGIN:VEVENT
DTSTART;TZID=America/St_Johns:20240606T100000
DTEND;TZID=America/St_Johns:20240606T120000
DTSTAMP:20260420T062832
CREATED:20240429T120155Z
LAST-MODIFIED:20240429T120201Z
UID:2510-1717668000-1717675200@nlpspa.ca
SUMMARY:Online Provincial Government Services (MyGovNL)
DESCRIPTION:After this session\, you’ll be able to: \n-Create a MyGovNL Account \n-Explain to friends the provincial services that can be accessed through MyGovNL \n-Renew your MCP online \nClick here to register.
URL:https://nlpspa.ca/event/online-provincial-government-services-mygovnl/
LOCATION:Virtual Meeting
CATEGORIES:techKNOWtutors
ORGANIZER;CN="techKNOWtutors":MAILTO:techknowtutors@communitysector.ca
END:VEVENT
BEGIN:VEVENT
DTSTART;TZID=America/St_Johns:20240606T120000
DTEND;TZID=America/St_Johns:20240606T130000
DTSTAMP:20260420T062832
CREATED:20240425T135039Z
LAST-MODIFIED:20240425T135045Z
UID:2490-1717675200-1717678800@nlpspa.ca
SUMMARY:techKNOWtutors: ChatGPT
DESCRIPTION:Let’s talk what’s ChatGPT\, how to use it and its limitations too. \nRegister here.
URL:https://nlpspa.ca/event/techknowtutors-chatgpt/
LOCATION:Virtual Meeting
CATEGORIES:techKNOWtutors
ORGANIZER;CN="techKNOWtutors":MAILTO:techknowtutors@communitysector.ca
END:VEVENT
BEGIN:VEVENT
DTSTART;TZID=America/St_Johns:20240613T100000
DTEND;TZID=America/St_Johns:20240613T120000
DTSTAMP:20260420T062832
CREATED:20240429T120327Z
LAST-MODIFIED:20240429T120356Z
UID:2512-1718272800-1718280000@nlpspa.ca
SUMMARY:techKNOWtutors: Facebook
DESCRIPTION:After this session\, you’ll be able to: \n-Create a Facebook Account \n-Navigate your Facebook Profile \n-Learn Facebook terminology \n-Add Friends on Facebook \nClick here to register.
URL:https://nlpspa.ca/event/techkonwtutors-facebook/
LOCATION:Virtual Meeting
CATEGORIES:techKNOWtutors
ORGANIZER;CN="techKNOWtutors":MAILTO:techknowtutors@communitysector.ca
END:VEVENT
END:VCALENDAR