BEGIN:VCALENDAR
VERSION:2.0
PRODID:-//NL Pensioners Association - ECPv6.15.20//NONSGML v1.0//EN
CALSCALE:GREGORIAN
METHOD:PUBLISH
X-WR-CALNAME:NL Pensioners Association
X-ORIGINAL-URL:https://nlpspa.ca
X-WR-CALDESC:Events for NL Pensioners Association
REFRESH-INTERVAL;VALUE=DURATION:PT1H
X-Robots-Tag:noindex
X-PUBLISHED-TTL:PT1H
BEGIN:VTIMEZONE
TZID:America/St_Johns
BEGIN:DAYLIGHT
TZOFFSETFROM:-0330
TZOFFSETTO:-0230
TZNAME:NDT
DTSTART:20240310T053000
END:DAYLIGHT
BEGIN:STANDARD
TZOFFSETFROM:-0230
TZOFFSETTO:-0330
TZNAME:NST
DTSTART:20241103T043000
END:STANDARD
BEGIN:DAYLIGHT
TZOFFSETFROM:-0330
TZOFFSETTO:-0230
TZNAME:NDT
DTSTART:20250309T053000
END:DAYLIGHT
BEGIN:STANDARD
TZOFFSETFROM:-0230
TZOFFSETTO:-0330
TZNAME:NST
DTSTART:20251102T043000
END:STANDARD
BEGIN:DAYLIGHT
TZOFFSETFROM:-0330
TZOFFSETTO:-0230
TZNAME:NDT
DTSTART:20260308T053000
END:DAYLIGHT
BEGIN:STANDARD
TZOFFSETFROM:-0230
TZOFFSETTO:-0330
TZNAME:NST
DTSTART:20261101T043000
END:STANDARD
END:VTIMEZONE
BEGIN:VEVENT
DTSTART;TZID=America/St_Johns:20251008T083000
DTEND;TZID=America/St_Johns:20251008T150000
DTSTAMP:20260419T094707
CREATED:20250617T130249Z
LAST-MODIFIED:20250617T130400Z
UID:3425-1759912200-1759935600@nlpspa.ca
SUMMARY:AGM & Membership Event
DESCRIPTION:9:30 AM     Registration/Welcome \n10:00 AM   NLPSPA Annual General Meeting 2025 \n11:30 AM   Ageless Grace Brain Health Fitness Session  \n12:15 PM    Dining Room Reset \n12:30 PM    Luncheon \n1:30 PM      Special Presentation: \n                     Wills & Estate Planning \n                      Butler Wills & Estates Planning Law Firm \n3:00 PM      Prize Draws/Adjournment \nIt is free to attend the AGM itself.  However\, if you are planning to attend the Annual General Meeting and wish to participate in the fitness session\, partake of the meal\, and attend the presentation\, contact Cheryl at the NLPSPA Office at 709-754-5730 or 1-800-563-4188 to register. The cost is $15.00 per person. The menu is an old-fashioned Newfoundland and Labrador cold plate\, with dessert. \nDue to capacity numbers at the hotel\, you are encouraged to purchase your dinner seat as soon as possible. Deadline is Friday\, September 26\, 2025. There will be NO refunds after this date.
URL:https://nlpspa.ca/event/agm-membership-event/
LOCATION:Capital Hotel\, 208 Kenmount Road\, St. John's\, NL\, A1B 3P2\, Canada
CATEGORIES:NLPSPA Event
ORGANIZER;CN="NLPSPA":MAILTO:pensioners@npspa.ca
END:VEVENT
END:VCALENDAR