BEGIN:VCALENDAR
VERSION:2.0
PRODID:-//NL Pensioners Association - ECPv6.15.20//NONSGML v1.0//EN
CALSCALE:GREGORIAN
METHOD:PUBLISH
X-ORIGINAL-URL:https://nlpspa.ca
X-WR-CALDESC:Events for NL Pensioners Association
REFRESH-INTERVAL;VALUE=DURATION:PT1H
X-Robots-Tag:noindex
X-PUBLISHED-TTL:PT1H
BEGIN:VTIMEZONE
TZID:America/St_Johns
BEGIN:DAYLIGHT
TZOFFSETFROM:-0330
TZOFFSETTO:-0230
TZNAME:NDT
DTSTART:20240310T053000
END:DAYLIGHT
BEGIN:STANDARD
TZOFFSETFROM:-0230
TZOFFSETTO:-0330
TZNAME:NST
DTSTART:20241103T043000
END:STANDARD
BEGIN:DAYLIGHT
TZOFFSETFROM:-0330
TZOFFSETTO:-0230
TZNAME:NDT
DTSTART:20250309T053000
END:DAYLIGHT
BEGIN:STANDARD
TZOFFSETFROM:-0230
TZOFFSETTO:-0330
TZNAME:NST
DTSTART:20251102T043000
END:STANDARD
BEGIN:DAYLIGHT
TZOFFSETFROM:-0330
TZOFFSETTO:-0230
TZNAME:NDT
DTSTART:20260308T053000
END:DAYLIGHT
BEGIN:STANDARD
TZOFFSETFROM:-0230
TZOFFSETTO:-0330
TZNAME:NST
DTSTART:20261101T043000
END:STANDARD
END:VTIMEZONE
BEGIN:VEVENT
DTSTART;TZID=America/St_Johns:20250530T183000
DTEND;TZID=America/St_Johns:20250531T010000
DTSTAMP:20260419T160906
CREATED:20250104T192435Z
LAST-MODIFIED:20250407T120337Z
UID:2777-1748629800-1748653200@nlpspa.ca
SUMMARY:NLPSPA Spring Fling
DESCRIPTION:Are you ready for Spring? Sunny Days? Time at the Cabin? Evening Campfires? \nNLPSPA and Provident 10 will be co-sponsoring a Spring Fling on May 30 at the Knights of Columbus\, 49 St. Clare Avenue to kick-start your summer season of sun and fun. \nTime: Cash Bar: 6:30 PM           Dinner: 7:00 PM \nMenu: This is a barbecue menu\, with a choice of steak or chicken\, baked potato\, fried mushrooms and onions\, dinner roll\, coleslaw\, and dessert. Please advise your meal choice and that of your spouse or any friends when you purchase your ticket(s). Please advise of any allergies at the time of ticket purchase. \nCost: $30.00 per person \nMusic: DJNewSoundMan \nPrize draws will take place after the meal.  Every table will win a prize plus be included in the door prize draws (gift cards)! \nWear your brightest colours\, be merry\, and enjoy a wonderful evening of frolic\, friendship\, and fun as we welcome Summer 2025! \nTo purchase tickets\, please contact Cheryl at (709) 754-5730 or 1(800) 563-4188 (Toll Free).  Tickets are first come first served and cannot be refunded after May 23rd.
URL:https://nlpspa.ca/event/nlpspa-spring-fling/
LOCATION:Knights of Columbus\, 49 St Clare Ave\, St. John's\, NL\, A1C2J9\, Canada
CATEGORIES:NLPSPA Event
ORGANIZER;CN="NLPSPA":MAILTO:pensioners@npspa.ca
END:VEVENT
END:VCALENDAR