BEGIN:VCALENDAR
VERSION:2.0
PRODID:-//NL Pensioners Association - ECPv6.15.20//NONSGML v1.0//EN
CALSCALE:GREGORIAN
METHOD:PUBLISH
X-WR-CALNAME:NL Pensioners Association
X-ORIGINAL-URL:https://nlpspa.ca
X-WR-CALDESC:Events for NL Pensioners Association
REFRESH-INTERVAL;VALUE=DURATION:PT1H
X-Robots-Tag:noindex
X-PUBLISHED-TTL:PT1H
BEGIN:VTIMEZONE
TZID:America/St_Johns
BEGIN:DAYLIGHT
TZOFFSETFROM:-0330
TZOFFSETTO:-0230
TZNAME:NDT
DTSTART:20230312T053000
END:DAYLIGHT
BEGIN:STANDARD
TZOFFSETFROM:-0230
TZOFFSETTO:-0330
TZNAME:NST
DTSTART:20231105T043000
END:STANDARD
BEGIN:DAYLIGHT
TZOFFSETFROM:-0330
TZOFFSETTO:-0230
TZNAME:NDT
DTSTART:20240310T053000
END:DAYLIGHT
BEGIN:STANDARD
TZOFFSETFROM:-0230
TZOFFSETTO:-0330
TZNAME:NST
DTSTART:20241103T043000
END:STANDARD
BEGIN:DAYLIGHT
TZOFFSETFROM:-0330
TZOFFSETTO:-0230
TZNAME:NDT
DTSTART:20250309T053000
END:DAYLIGHT
BEGIN:STANDARD
TZOFFSETFROM:-0230
TZOFFSETTO:-0330
TZNAME:NST
DTSTART:20251102T043000
END:STANDARD
END:VTIMEZONE
BEGIN:VEVENT
DTSTART;TZID=America/St_Johns:20241009T153000
DTEND;TZID=America/St_Johns:20241009T213000
DTSTAMP:20260421T073300
CREATED:20240425T141607Z
LAST-MODIFIED:20240425T142421Z
UID:2492-1728487800-1728509400@nlpspa.ca
SUMMARY:2024 AGM and Convention: Day One
DESCRIPTION:Cheers to 35 Years! \nThe 2024 NLPSPA Convention will offer a variety of opportunities to celebrate our membership\, to applaud the accomplishments of the Association over thirty-five (35) years and to reminisce with friends and former colleagues in a fun and relaxing atmosphere. \nRegistration information to follow. \n3:30 p.m.                                Registration\, Membership Desk\, Exhibits\, Reception and Cash Bar                         \n5:00 p.m.                               Meal \n6:30 p.m.                               Opening Ceremonies                     \n7:30 p.m.                                Annual General Meeting \n                                              Presentation by belairdirect \n                                              35th Birthday Celebration \n9:30 p.m.                                Evening Adjournment
URL:https://nlpspa.ca/event/2024-agm-and-convention-day-one/
LOCATION:Capital Hotel\, 208 Kenmount Road\, St. John's\, NL\, A1B 3P2\, Canada
CATEGORIES:NLPSPA Event
ATTACH;FMTTYPE=image/jpeg:https://nlpspa.ca/wp-content/uploads/2023/01/Logo.jpg
ORGANIZER;CN="NLPSPA":MAILTO:pensioners@npspa.ca
END:VEVENT
END:VCALENDAR