BEGIN:VCALENDAR
VERSION:2.0
PRODID:-//NL Pensioners Association - ECPv6.15.20//NONSGML v1.0//EN
CALSCALE:GREGORIAN
METHOD:PUBLISH
X-WR-CALNAME:NL Pensioners Association
X-ORIGINAL-URL:https://nlpspa.ca
X-WR-CALDESC:Events for NL Pensioners Association
REFRESH-INTERVAL;VALUE=DURATION:PT1H
X-Robots-Tag:noindex
X-PUBLISHED-TTL:PT1H
BEGIN:VTIMEZONE
TZID:America/St_Johns
BEGIN:DAYLIGHT
TZOFFSETFROM:-0330
TZOFFSETTO:-0230
TZNAME:NDT
DTSTART:20230312T053000
END:DAYLIGHT
BEGIN:STANDARD
TZOFFSETFROM:-0230
TZOFFSETTO:-0330
TZNAME:NST
DTSTART:20231105T043000
END:STANDARD
BEGIN:DAYLIGHT
TZOFFSETFROM:-0330
TZOFFSETTO:-0230
TZNAME:NDT
DTSTART:20240310T053000
END:DAYLIGHT
BEGIN:STANDARD
TZOFFSETFROM:-0230
TZOFFSETTO:-0330
TZNAME:NST
DTSTART:20241103T043000
END:STANDARD
BEGIN:DAYLIGHT
TZOFFSETFROM:-0330
TZOFFSETTO:-0230
TZNAME:NDT
DTSTART:20250309T053000
END:DAYLIGHT
BEGIN:STANDARD
TZOFFSETFROM:-0230
TZOFFSETTO:-0330
TZNAME:NST
DTSTART:20251102T043000
END:STANDARD
END:VTIMEZONE
BEGIN:VEVENT
DTSTART;TZID=America/St_Johns:20240528T193000
DTEND;TZID=America/St_Johns:20240528T203000
DTSTAMP:20260422T063546
CREATED:20240429T153138Z
LAST-MODIFIED:20240429T153220Z
UID:2518-1716924600-1716928200@nlpspa.ca
SUMMARY:The Cloudberries Choir: 20 Years of Music
DESCRIPTION:The Cloudberries Choir: 20 Years of Music\nAs they celebrate their 20th Anniversary\nDirected by Sherry Crowley\, and Accompanied by Judy Parsons Kirby\nThe Choir will present a wide variety of nostalgic music pieces from country tunes\, big band classics\, swing\, rock n’ roll\, gospel\, and the era of the Beatles. There will be something for everyone; you won’t be disappointed! Your memories will drift back to poodle skirts\, tight jeans\, and fast cars! \nThe Cloudberries Choir is a community choir based in Holyrood. They have performed almost all genres\, including show tunes\, movie themes\, rock\, country-western\, songs of the 50s-60s and\, their most loved\, Gospel tunes\, to name a few. They have performed at seniors’ homes\, churches and other venues in various towns and communities around the Avalon\, to spread the joy of music and song\, as these opportunities arise. The Choir has performed for NLPSPA and CARP before\, and you will enjoy this concert as we welcome the summer of 2024! \nRegister in advance for this zoom event: \nhttps://us06web.zoom.us/meeting/register/tZUpdu2oqD0tGtHdlYgs5MRLQ-TGtTVraBfY \nAfter registering\, you will receive a confirmation email containing information about joining the meeting.
URL:https://nlpspa.ca/event/the-cloudberries-choir-20-years-of-music/
LOCATION:Virtual Meeting
CATEGORIES:NLPSPA Event
ATTACH;FMTTYPE=image/png:https://nlpspa.ca/wp-content/uploads/2024/04/Picture1.png
ORGANIZER;CN="NLPSPA":MAILTO:pensioners@npspa.ca
END:VEVENT
END:VCALENDAR