BEGIN:VCALENDAR
VERSION:2.0
PRODID:-//NL Pensioners Association - ECPv6.15.20//NONSGML v1.0//EN
CALSCALE:GREGORIAN
METHOD:PUBLISH
X-WR-CALNAME:NL Pensioners Association
X-ORIGINAL-URL:https://nlpspa.ca
X-WR-CALDESC:Events for NL Pensioners Association
REFRESH-INTERVAL;VALUE=DURATION:PT1H
X-Robots-Tag:noindex
X-PUBLISHED-TTL:PT1H
BEGIN:VTIMEZONE
TZID:America/St_Johns
BEGIN:DAYLIGHT
TZOFFSETFROM:-0330
TZOFFSETTO:-0230
TZNAME:NDT
DTSTART:20230312T053000
END:DAYLIGHT
BEGIN:STANDARD
TZOFFSETFROM:-0230
TZOFFSETTO:-0330
TZNAME:NST
DTSTART:20231105T043000
END:STANDARD
BEGIN:DAYLIGHT
TZOFFSETFROM:-0330
TZOFFSETTO:-0230
TZNAME:NDT
DTSTART:20240310T053000
END:DAYLIGHT
BEGIN:STANDARD
TZOFFSETFROM:-0230
TZOFFSETTO:-0330
TZNAME:NST
DTSTART:20241103T043000
END:STANDARD
BEGIN:DAYLIGHT
TZOFFSETFROM:-0330
TZOFFSETTO:-0230
TZNAME:NDT
DTSTART:20250309T053000
END:DAYLIGHT
BEGIN:STANDARD
TZOFFSETFROM:-0230
TZOFFSETTO:-0330
TZNAME:NST
DTSTART:20251102T043000
END:STANDARD
END:VTIMEZONE
BEGIN:VEVENT
DTSTART;TZID=America/St_Johns:20241107T100000
DTEND;TZID=America/St_Johns:20241107T153000
DTSTAMP:20260419T231728
CREATED:20241001T165934Z
LAST-MODIFIED:20241001T170028Z
UID:2624-1730973600-1730993400@nlpspa.ca
SUMMARY:Digital Literacy Training: Digital Basics
DESCRIPTION:We are back with more offerings in digital literacy learnings for you. NLPSPA has partnered again with the expert trainers of TechKNOWtutors (TKT) to co-sponsor a series of digital literacy learning opportunities just for you. \nYou may register for one course only or all\, if you prefer\, whichever ones are of interest to you. These courses all have two offerings\, with morning sessions in-person at the TKT location at 25 Anderson Avenue. The afternoon sessions are all virtual and you will need internet access to participate. All courses require registration. \n\n\n\n \nMorning session: 10 – 11:30 am \nAfternoon session: 2 – 3:30 pm\n \nMorning session: 25 Anderson Avenue \nAfternoon session: Online on Zoom\nClick here to register
URL:https://nlpspa.ca/event/digital-literacy-training/
LOCATION:techKNOWtutors\, 25 Anderson Avenue\, St. John's\, NL\, Canada
CATEGORIES:NLPSPA Event
ORGANIZER;CN="NLPSPA":MAILTO:pensioners@npspa.ca
END:VEVENT
BEGIN:VEVENT
DTSTART;TZID=America/St_Johns:20241114T140000
DTEND;TZID=America/St_Johns:20241114T140000
DTSTAMP:20260419T231728
CREATED:20241001T171003Z
LAST-MODIFIED:20241001T171513Z
UID:2631-1731592800-1731592800@nlpspa.ca
SUMMARY:An Introduction to Nav-CARE
DESCRIPTION:What is Nav-CARE? Nav-CARE is a free program\, matching trained volunteers with clients dealing with declining health conditions. Our volunteers assist these clients with finding resources to aid them in staying in their own homes longer\, while combating feelings of social isolation and loneliness. \nOur Presenter is Amy Way is the Nav-CARE Coordinator with Adult Rehabilitation\, Geriatric and Palliative Care with Eastern Health Services. Amy’s background is in Recreation Therapy and she has worked with seniors in LTC and Personal Care Homes for over 10 years in both Alberta and Newfoundland.  \nThis is a virtual meeting and internet access is required. \nDate: Thursday\, November 14\, 2024 \nTime: 2:00 PM NST; 1:30 PM AST (Labrador) \nRegister in advance for this meeting: \nhttps://us06web.zoom.us/meeting/register/tZIqc-iopjsiHNfiyOoPSrLcDWO-JoPXlrzS   \nAfter registering\, you will receive a confirmation email containing information about joining the meeting. \nEveryone is welcome for this most interesting presentation.
URL:https://nlpspa.ca/event/an-introduction-to-nav-care/
LOCATION:Virtual Meeting
CATEGORIES:NLPSPA Event
ORGANIZER;CN="NLPSPA":MAILTO:pensioners@npspa.ca
END:VEVENT
BEGIN:VEVENT
DTSTART;TZID=America/St_Johns:20241121T100000
DTEND;TZID=America/St_Johns:20241121T153000
DTSTAMP:20260419T231728
CREATED:20241001T170230Z
LAST-MODIFIED:20241001T170230Z
UID:2627-1732183200-1732203000@nlpspa.ca
SUMMARY:Digital Literacy Training: Protecting Yourself Online
DESCRIPTION:We are back with more offerings in digital literacy learnings for you. NLPSPA has partnered again with the expert trainers of TechKNOWtutors (TKT) to co-sponsor a series of digital literacy learning opportunities just for you. \nYou may register for one course only or all\, if you prefer\, whichever ones are of interest to you. These courses all have two offerings\, with morning sessions in-person at the TKT location at 25 Anderson Avenue. The afternoon sessions are all virtual and you will need internet access to participate. All courses require registration. \n\n\n\n \nMorning session: 10 – 11:30 am \nAfternoon session: 2 – 3:30 pm\n \nMorning session: 25 Anderson Avenue \nAfternoon session: Online on Zoom\nClick here to register
URL:https://nlpspa.ca/event/digital-literacy-training-protecting-yourself-online/
LOCATION:techKNOWtutors\, 25 Anderson Avenue\, St. John's\, NL\, Canada
CATEGORIES:NLPSPA Event
ORGANIZER;CN="NLPSPA":MAILTO:pensioners@npspa.ca
END:VEVENT
END:VCALENDAR