BEGIN:VCALENDAR
VERSION:2.0
PRODID:-//NL Pensioners Association - ECPv6.15.20//NONSGML v1.0//EN
CALSCALE:GREGORIAN
METHOD:PUBLISH
X-ORIGINAL-URL:https://nlpspa.ca
X-WR-CALDESC:Events for NL Pensioners Association
REFRESH-INTERVAL;VALUE=DURATION:PT1H
X-Robots-Tag:noindex
X-PUBLISHED-TTL:PT1H
BEGIN:VTIMEZONE
TZID:America/St_Johns
BEGIN:DAYLIGHT
TZOFFSETFROM:-0330
TZOFFSETTO:-0230
TZNAME:NDT
DTSTART:20220313T053000
END:DAYLIGHT
BEGIN:STANDARD
TZOFFSETFROM:-0230
TZOFFSETTO:-0330
TZNAME:NST
DTSTART:20221106T043000
END:STANDARD
BEGIN:DAYLIGHT
TZOFFSETFROM:-0330
TZOFFSETTO:-0230
TZNAME:NDT
DTSTART:20230312T053000
END:DAYLIGHT
BEGIN:STANDARD
TZOFFSETFROM:-0230
TZOFFSETTO:-0330
TZNAME:NST
DTSTART:20231105T043000
END:STANDARD
BEGIN:DAYLIGHT
TZOFFSETFROM:-0330
TZOFFSETTO:-0230
TZNAME:NDT
DTSTART:20240310T053000
END:DAYLIGHT
BEGIN:STANDARD
TZOFFSETFROM:-0230
TZOFFSETTO:-0330
TZNAME:NST
DTSTART:20241103T043000
END:STANDARD
END:VTIMEZONE
BEGIN:VEVENT
DTSTART;TZID=America/St_Johns:20231017T140000
DTEND;TZID=America/St_Johns:20231017T163000
DTSTAMP:20260422T162402
CREATED:20230922T161323Z
LAST-MODIFIED:20230922T161804Z
UID:1908-1697551200-1697560200@nlpspa.ca
SUMMARY:“Winter is Coming! Are you Ready?” with Al Antle
DESCRIPTION:“Winter is Coming! Are you Ready?”\nWith Al Antle\nCredit Counselling Services of Newfoundland and Labrador \nWHEN: Tuesday\, October 17\, 2023\nTIME: 2:00 – 4:30 PM\nWHERE: This will be a virtual meeting. Internet access is required. \nAre you worried about the high price of groceries\, fuel\, housing\, and other essential living costs? At this event\, we will explore possible ways to stretch your dollar a bit further\, what purchasing traps to avoid\, and some tips on how to manage your expenses and make sensible choices over the colder months of winter. \nNLPSPA is pleased to partner with the Credit Counselling Service of Newfoundland and Labrador and to welcome Al Antle\, Executive Director\, as the presenter for today’s event. Al is well known to our audience and in addition to his knowledge\, expertise\, and experience in these areas\, he brings a common-sense approach to help us navigate these tough times. \nRegister in advance for this meeting: \nhttps://us06web.zoom.us/meeting/register/tZAode-orTsqGNJbF1eykeAcr8mNto-44BFh  \nAfter registering\, you will receive a confirmation email containing information about joining the meeting. \nAll members\, friends\, and family are welcome to join this event.
URL:https://nlpspa.ca/event/winter-is-coming-are-you-ready-with-al-antle/
LOCATION:Virtual Meeting
CATEGORIES:NLPSPA Event
ORGANIZER;CN="NLPSPA":MAILTO:pensioners@npspa.ca
END:VEVENT
END:VCALENDAR