BEGIN:VCALENDAR
VERSION:2.0
PRODID:-//NL Pensioners Association - ECPv6.15.20//NONSGML v1.0//EN
CALSCALE:GREGORIAN
METHOD:PUBLISH
X-WR-CALNAME:NL Pensioners Association
X-ORIGINAL-URL:https://nlpspa.ca
X-WR-CALDESC:Events for NL Pensioners Association
REFRESH-INTERVAL;VALUE=DURATION:PT1H
X-Robots-Tag:noindex
X-PUBLISHED-TTL:PT1H
BEGIN:VTIMEZONE
TZID:America/St_Johns
BEGIN:DAYLIGHT
TZOFFSETFROM:-0330
TZOFFSETTO:-0230
TZNAME:NDT
DTSTART:20220313T053000
END:DAYLIGHT
BEGIN:STANDARD
TZOFFSETFROM:-0230
TZOFFSETTO:-0330
TZNAME:NST
DTSTART:20221106T043000
END:STANDARD
BEGIN:DAYLIGHT
TZOFFSETFROM:-0330
TZOFFSETTO:-0230
TZNAME:NDT
DTSTART:20230312T053000
END:DAYLIGHT
BEGIN:STANDARD
TZOFFSETFROM:-0230
TZOFFSETTO:-0330
TZNAME:NST
DTSTART:20231105T043000
END:STANDARD
BEGIN:DAYLIGHT
TZOFFSETFROM:-0330
TZOFFSETTO:-0230
TZNAME:NDT
DTSTART:20240310T053000
END:DAYLIGHT
BEGIN:STANDARD
TZOFFSETFROM:-0230
TZOFFSETTO:-0330
TZNAME:NST
DTSTART:20241103T043000
END:STANDARD
END:VTIMEZONE
BEGIN:VEVENT
DTSTART;TZID=America/St_Johns:20230208T183000
DTEND;TZID=America/St_Johns:20230208T203000
DTSTAMP:20260421T144041
CREATED:20230109T153532Z
LAST-MODIFIED:20230109T164155Z
UID:1446-1675881000-1675888200@nlpspa.ca
SUMMARY:Cancer in Newfoundland and Labrador
DESCRIPTION:Cancer in NL – Wednesday February 8\, 6:30pm – Register: fb.me/e/3L8TeSAk7 \nNewfoundland has the highest rate of cancer in Canada. Dr. Sevtap Sevas is a leading researcher and cancer patient advocate. She will be with us to discuss the latest news in the world of cancer research.\n \nThis is a HYBRID event\, so you may attend in person if you are in the St John’s area or you can attend online from your home.
URL:https://nlpspa.ca/event/cancer-in-newfoundland-and-labrador/
LOCATION:Virtual Meeting
CATEGORIES:NL Public Libraries
ATTACH;FMTTYPE=image/jpeg:https://nlpspa.ca/wp-content/uploads/2023/01/PublicLibraries4.jpg
END:VEVENT
END:VCALENDAR