BEGIN:VCALENDAR
VERSION:2.0
PRODID:-//NL Pensioners Association - ECPv6.15.20//NONSGML v1.0//EN
CALSCALE:GREGORIAN
METHOD:PUBLISH
X-ORIGINAL-URL:https://nlpspa.ca
X-WR-CALDESC:Events for NL Pensioners Association
REFRESH-INTERVAL;VALUE=DURATION:PT1H
X-Robots-Tag:noindex
X-PUBLISHED-TTL:PT1H
BEGIN:VTIMEZONE
TZID:America/St_Johns
BEGIN:DAYLIGHT
TZOFFSETFROM:-0330
TZOFFSETTO:-0230
TZNAME:NDT
DTSTART:20230312T053000
END:DAYLIGHT
BEGIN:STANDARD
TZOFFSETFROM:-0230
TZOFFSETTO:-0330
TZNAME:NST
DTSTART:20231105T043000
END:STANDARD
BEGIN:DAYLIGHT
TZOFFSETFROM:-0330
TZOFFSETTO:-0230
TZNAME:NDT
DTSTART:20240310T053000
END:DAYLIGHT
BEGIN:STANDARD
TZOFFSETFROM:-0230
TZOFFSETTO:-0330
TZNAME:NST
DTSTART:20241103T043000
END:STANDARD
BEGIN:DAYLIGHT
TZOFFSETFROM:-0330
TZOFFSETTO:-0230
TZNAME:NDT
DTSTART:20250309T053000
END:DAYLIGHT
BEGIN:STANDARD
TZOFFSETFROM:-0230
TZOFFSETTO:-0330
TZNAME:NST
DTSTART:20251102T043000
END:STANDARD
END:VTIMEZONE
BEGIN:VEVENT
DTSTART;TZID=America/St_Johns:20240314T193000
DTEND;TZID=America/St_Johns:20240314T203000
DTSTAMP:20260421T025008
CREATED:20240212T145915Z
LAST-MODIFIED:20240212T145921Z
UID:2381-1710444600-1710448200@nlpspa.ca
SUMMARY:Fergus O'Byrne Music Hour
DESCRIPTION:Irish Newfoundland Music and Song \nThursday March 14th from 7:30pm to 8:30pm \nCome Join Us and get a Start on St. Patrick’s Day \nCARP NL invites its members and friends to join us for a fun-filled\, exciting\, sing-along evening with famed NL musician Fergus O’Byrne. Fergus is an Irish-Canadian musician who brings happiness\, laughter and gaiety to life. \nFergus O’Byrne is well-recognized for his efforts in promoting Newfoundland and Celtic music and has received several awards acknowledging these accomplishments including an ECMA Lifetime Achievement Award and an NLAC Arts in Education award shared with Jim Payne. \nIn addition to touring nationally and internationally\, Fergus works extensively mentoring young folk enthusiasts and students throughout the province of Newfoundland and Labrador. \nRegister
URL:https://nlpspa.ca/event/fergus-obyrne-music-hour/
LOCATION:Virtual Meeting
CATEGORIES:CARP NL Event
ATTACH;FMTTYPE=image/jpeg:https://nlpspa.ca/wp-content/uploads/2024/02/Fergus.jpg
END:VEVENT
END:VCALENDAR