BEGIN:VCALENDAR
VERSION:2.0
PRODID:-//NL Pensioners Association - ECPv6.15.20//NONSGML v1.0//EN
CALSCALE:GREGORIAN
METHOD:PUBLISH
X-WR-CALNAME:NL Pensioners Association
X-ORIGINAL-URL:https://nlpspa.ca
X-WR-CALDESC:Events for NL Pensioners Association
REFRESH-INTERVAL;VALUE=DURATION:PT1H
X-Robots-Tag:noindex
X-PUBLISHED-TTL:PT1H
BEGIN:VTIMEZONE
TZID:America/St_Johns
BEGIN:DAYLIGHT
TZOFFSETFROM:-0330
TZOFFSETTO:-0230
TZNAME:NDT
DTSTART:20210314T053000
END:DAYLIGHT
BEGIN:STANDARD
TZOFFSETFROM:-0230
TZOFFSETTO:-0330
TZNAME:NST
DTSTART:20211107T043000
END:STANDARD
BEGIN:DAYLIGHT
TZOFFSETFROM:-0330
TZOFFSETTO:-0230
TZNAME:NDT
DTSTART:20220313T053000
END:DAYLIGHT
BEGIN:STANDARD
TZOFFSETFROM:-0230
TZOFFSETTO:-0330
TZNAME:NST
DTSTART:20221106T043000
END:STANDARD
BEGIN:DAYLIGHT
TZOFFSETFROM:-0330
TZOFFSETTO:-0230
TZNAME:NDT
DTSTART:20230312T053000
END:DAYLIGHT
BEGIN:STANDARD
TZOFFSETFROM:-0230
TZOFFSETTO:-0330
TZNAME:NST
DTSTART:20231105T043000
END:STANDARD
END:VTIMEZONE
BEGIN:VEVENT
DTSTART;TZID=America/St_Johns:20221109T073000
DTEND;TZID=America/St_Johns:20221109T203000
DTSTAMP:20260421T231205
CREATED:20221107T110232Z
LAST-MODIFIED:20221107T110232Z
UID:1178-1667979000-1668025800@nlpspa.ca
SUMMARY:An Evening with the Flummies
DESCRIPTION:Flummies (flum`-meez`) n. – traditional Labrador trappers’ bread using a mixture of flour\, salt and baking powder. \nABOUT THE ARTISTs: \nThe Flummies are a five piece Inuit music group home-based in the Central Labrador community of Happy Valley-Goose Bay NL. \nThe band is prominently known for recording and preserving\ncontemporary historical\, cultural and traditional songs of Labrador but have several of their own self-penned hits being played on radio. \nThe Flummies continue to please audiences with their hometown mixture of good heartwarming\, toe-tapping music. The style is a blend of traditional accordion mixed with overtones of classic rock and roll and country music. \nThe group has performed at many festivals and conferences around Atlantic Canada\, across the eastern Canadian Arctic\, Ontario\, and the province of Newfoundland and Labrador.  \nIncluded in their touring was a five show performance in Germany in 1989 and twenty-eight shows at the base of the CN\nTower in June of 1999. Original Flummie member Richard Dyson (accordion) hometown Batteau Labrador\, is joined by Sim Asivak (bass) hometown Happy Valley\, Leander Baikie (acoustic guitar and vocals) hometown North West River\, and Tunker Campbell (acoustic & amp; electric lead guitar\, and vocals) from The Valley. \nAwards \nLifetime Achievement Award MusicNL – December 2021\nAboriginal Recording Artists of the Year ECMA – February 2009\nAboriginal Artists /Group of the Year MIANL – November 2002\nAboriginal Album of the Year ECMA – February 2003 \nHospitality Newfoundland and Labrador Tourism Ambassadors 2003 \nPlease Invite family and friends to join us for a wonderful evening of music\, song and toe-tapping!! \nWednesday\, November 9th for an hour  \n7:00pm to  8:00pm Labrador \n7:30pm to 8:30pm Newfoundland  \nTo register\, please click below. \nhttps://us06web.zoom.us/meeting/register/tZMscuyqqj0pGtCCSziSmI0nOV3vqt363Hak \nYou will receive confirmation of your registration.
URL:https://nlpspa.ca/event/an-evening-with-the-flummies/
LOCATION:Virtual Meeting
CATEGORIES:CARP NL Event
ATTACH;FMTTYPE=image/jpeg:https://nlpspa.ca/wp-content/uploads/2022/11/Flummies.jpg
END:VEVENT
END:VCALENDAR