BEGIN:VCALENDAR
VERSION:2.0
PRODID:-//NL Pensioners Association - ECPv6.15.20//NONSGML v1.0//EN
CALSCALE:GREGORIAN
METHOD:PUBLISH
X-ORIGINAL-URL:https://nlpspa.ca
X-WR-CALDESC:Events for NL Pensioners Association
REFRESH-INTERVAL;VALUE=DURATION:PT1H
X-Robots-Tag:noindex
X-PUBLISHED-TTL:PT1H
BEGIN:VTIMEZONE
TZID:America/St_Johns
BEGIN:DAYLIGHT
TZOFFSETFROM:-0330
TZOFFSETTO:-0230
TZNAME:NDT
DTSTART:20210314T053000
END:DAYLIGHT
BEGIN:STANDARD
TZOFFSETFROM:-0230
TZOFFSETTO:-0330
TZNAME:NST
DTSTART:20211107T043000
END:STANDARD
BEGIN:DAYLIGHT
TZOFFSETFROM:-0330
TZOFFSETTO:-0230
TZNAME:NDT
DTSTART:20220313T053000
END:DAYLIGHT
BEGIN:STANDARD
TZOFFSETFROM:-0230
TZOFFSETTO:-0330
TZNAME:NST
DTSTART:20221106T043000
END:STANDARD
BEGIN:DAYLIGHT
TZOFFSETFROM:-0330
TZOFFSETTO:-0230
TZNAME:NDT
DTSTART:20230312T053000
END:DAYLIGHT
BEGIN:STANDARD
TZOFFSETFROM:-0230
TZOFFSETTO:-0330
TZNAME:NST
DTSTART:20231105T043000
END:STANDARD
BEGIN:DAYLIGHT
TZOFFSETFROM:-0330
TZOFFSETTO:-0230
TZNAME:NDT
DTSTART:20240310T053000
END:DAYLIGHT
BEGIN:STANDARD
TZOFFSETFROM:-0230
TZOFFSETTO:-0330
TZNAME:NST
DTSTART:20241103T043000
END:STANDARD
BEGIN:DAYLIGHT
TZOFFSETFROM:-0330
TZOFFSETTO:-0230
TZNAME:NDT
DTSTART:20250309T053000
END:DAYLIGHT
BEGIN:STANDARD
TZOFFSETFROM:-0230
TZOFFSETTO:-0330
TZNAME:NST
DTSTART:20251102T043000
END:STANDARD
END:VTIMEZONE
BEGIN:VEVENT
DTSTART;TZID=America/St_Johns:20240918T093000
DTEND;TZID=America/St_Johns:20240918T093000
DTSTAMP:20260420T105523
CREATED:20231027T162410Z
LAST-MODIFIED:20231027T162446Z
UID:1998-1726651800-1726651800@nlpspa.ca
SUMMARY:NLPSPA Board Meeting
DESCRIPTION:September 18\, 2024\, @ 9:30 AM via zoom 
URL:https://nlpspa.ca/event/nlpspa-board-meeting-5/
LOCATION:Virtual Meeting
CATEGORIES:Board Meetings
ATTACH;FMTTYPE=image/jpeg:https://nlpspa.ca/wp-content/uploads/2023/01/Logo.jpg
ORGANIZER;CN="NLPSPA":MAILTO:pensioners@npspa.ca
END:VEVENT
BEGIN:VEVENT
DTSTART;TZID=America/St_Johns:20240530T100000
DTEND;TZID=America/St_Johns:20240530T100000
DTSTAMP:20260420T105523
CREATED:20231027T162208Z
LAST-MODIFIED:20240405T120906Z
UID:1996-1717063200-1717063200@nlpspa.ca
SUMMARY:Board Meeting
DESCRIPTION:May 30\, 2024\, @ 9:30 AM\, In-Person\, Capital Hotel\, Kenmount Road St. John’s
URL:https://nlpspa.ca/event/nlpspa-board-meeting-4/
LOCATION:Capital Hotel\, 208 Kenmount Road\, St. John's\, NL\, A1B 3P2\, Canada
CATEGORIES:Board Meetings
ATTACH;FMTTYPE=image/jpeg:https://nlpspa.ca/wp-content/uploads/2023/01/Logo.jpg
ORGANIZER;CN="NLPSPA":MAILTO:pensioners@npspa.ca
END:VEVENT
BEGIN:VEVENT
DTSTART;TZID=America/St_Johns:20240306T093000
DTEND;TZID=America/St_Johns:20240306T093000
DTSTAMP:20260420T105523
CREATED:20231027T162016Z
LAST-MODIFIED:20231027T162021Z
UID:1994-1709717400-1709717400@nlpspa.ca
SUMMARY:NLPSPA Board Meeting
DESCRIPTION:March 6\, 2024\, @ 9:30 AM via zoom 
URL:https://nlpspa.ca/event/nlpspa-board-meeting-3/
LOCATION:Virtual Meeting
CATEGORIES:Board Meetings
ATTACH;FMTTYPE=image/jpeg:https://nlpspa.ca/wp-content/uploads/2023/01/Logo.jpg
ORGANIZER;CN="NLPSPA":MAILTO:pensioners@npspa.ca
END:VEVENT
BEGIN:VEVENT
DTSTART;TZID=America/St_Johns:20230914T093000
DTEND;TZID=America/St_Johns:20230914T163000
DTSTAMP:20260420T105523
CREATED:20221022T023603Z
LAST-MODIFIED:20230828T154413Z
UID:1124-1694683800-1694709000@nlpspa.ca
SUMMARY:Board Meeting
DESCRIPTION:The Board Meeting will be a hybrid meeting. It will be held in the Board Room of the NLPSPA office for local Board Members and on zoom for out-of-town Board Members. The meeting begins at 9:30 am.
URL:https://nlpspa.ca/event/board-meeting-5/
LOCATION:Virtual Meeting
CATEGORIES:Board Meetings
ORGANIZER;CN="ED%3A Sharron Callahan":MAILTO:scallahan@npspa.ca
END:VEVENT
BEGIN:VEVENT
DTSTART;TZID=America/St_Johns:20230608T093000
DTEND;TZID=America/St_Johns:20230608T163000
DTSTAMP:20260420T105523
CREATED:20221022T023305Z
LAST-MODIFIED:20221027T224248Z
UID:1121-1686216600-1686241800@nlpspa.ca
SUMMARY:Board Meeting
DESCRIPTION:The Board Meeting will be held in the Board Room of the NLPSPA office beginning at 9:30 am.
URL:https://nlpspa.ca/event/board-meeting-4/
LOCATION:NLPSPA Board Room\, 446 Newfoundland Drive\, Suite 206 – 208\, St. John’s\, NL\, A1A 4G7\, Canada
CATEGORIES:Board Meetings
ORGANIZER;CN="ED%3A Sharron Callahan":MAILTO:scallahan@npspa.ca
END:VEVENT
BEGIN:VEVENT
DTSTART;TZID=America/St_Johns:20230309T093000
DTEND;TZID=America/St_Johns:20230309T163000
DTSTAMP:20260420T105523
CREATED:20221022T014338Z
LAST-MODIFIED:20221027T224217Z
UID:1114-1678354200-1678379400@nlpspa.ca
SUMMARY:Board Meeting
DESCRIPTION:The Board Meeting will be held in the Board Room at the NLPSPA office beginning at 9:30 am.
URL:https://nlpspa.ca/event/board-meeting-3/
LOCATION:NLPSPA Board Room\, 446 Newfoundland Drive\, Suite 206 – 208\, St. John’s\, NL\, A1A 4G7\, Canada
CATEGORIES:Board Meetings
ORGANIZER;CN="ED%3A Sharron Callahan":MAILTO:scallahan@npspa.ca
END:VEVENT
BEGIN:VEVENT
DTSTART;TZID=America/St_Johns:20230106T093000
DTEND;TZID=America/St_Johns:20230106T163000
DTSTAMP:20260420T105523
CREATED:20221021T130334Z
LAST-MODIFIED:20221027T224148Z
UID:1107-1672997400-1673022600@nlpspa.ca
SUMMARY:Board Meeting
DESCRIPTION:The Board Meeting will be held in the Board Room at the NLPSPA office beginning at 9:30 am. \nThat evening a Christmas Party is planned to be held at the Knights of Columbus Club opening at 6:00pm for dinner at 7:00pm.
URL:https://nlpspa.ca/event/board-meeting-2/
LOCATION:NLPSPA Board Room\, 446 Newfoundland Drive\, Suite 206 – 208\, St. John’s\, NL\, A1A 4G7\, Canada
CATEGORIES:Board Meetings
ORGANIZER;CN="ED%3A Sharron Callahan":MAILTO:scallahan@npspa.ca
END:VEVENT
BEGIN:VEVENT
DTSTART;TZID=America/St_Johns:20221213T100000
DTEND;TZID=America/St_Johns:20221213T160000
DTSTAMP:20260420T105523
CREATED:20221021T125640Z
LAST-MODIFIED:20221207T012935Z
UID:1103-1670925600-1670947200@nlpspa.ca
SUMMARY:Board Meeting
DESCRIPTION:This is scheduled to be a Virtual Meeting on Zoom beginning at 9:30am.
URL:https://nlpspa.ca/event/board-meeting/
LOCATION:Virtual Meeting
CATEGORIES:Board Meetings
ORGANIZER;CN="ED%3A Sharron Callahan":MAILTO:scallahan@npspa.ca
END:VEVENT
END:VCALENDAR