BEGIN:VCALENDAR
VERSION:2.0
PRODID:-//NL Pensioners Association - ECPv6.15.20//NONSGML v1.0//EN
CALSCALE:GREGORIAN
METHOD:PUBLISH
X-WR-CALNAME:NL Pensioners Association
X-ORIGINAL-URL:https://nlpspa.ca
X-WR-CALDESC:Events for NL Pensioners Association
REFRESH-INTERVAL;VALUE=DURATION:PT1H
X-Robots-Tag:noindex
X-PUBLISHED-TTL:PT1H
BEGIN:VTIMEZONE
TZID:America/St_Johns
BEGIN:DAYLIGHT
TZOFFSETFROM:-0330
TZOFFSETTO:-0230
TZNAME:NDT
DTSTART:20240310T053000
END:DAYLIGHT
BEGIN:STANDARD
TZOFFSETFROM:-0230
TZOFFSETTO:-0330
TZNAME:NST
DTSTART:20241103T043000
END:STANDARD
BEGIN:DAYLIGHT
TZOFFSETFROM:-0330
TZOFFSETTO:-0230
TZNAME:NDT
DTSTART:20250309T053000
END:DAYLIGHT
BEGIN:STANDARD
TZOFFSETFROM:-0230
TZOFFSETTO:-0330
TZNAME:NST
DTSTART:20251102T043000
END:STANDARD
BEGIN:DAYLIGHT
TZOFFSETFROM:-0330
TZOFFSETTO:-0230
TZNAME:NDT
DTSTART:20260308T053000
END:DAYLIGHT
BEGIN:STANDARD
TZOFFSETFROM:-0230
TZOFFSETTO:-0330
TZNAME:NST
DTSTART:20261101T043000
END:STANDARD
END:VTIMEZONE
BEGIN:VEVENT
DTSTART;TZID=America/St_Johns:20251011T123000
DTEND;TZID=America/St_Johns:20251011T150000
DTSTAMP:20260421T185501
CREATED:20251003T164246Z
LAST-MODIFIED:20251003T164359Z
UID:3503-1760185800-1760194800@nlpspa.ca
SUMMARY:Town Hall Meeting
DESCRIPTION:Your Vote Counts! \nThe participating associations of the NL Seniors’ & Pensioners’ Coalition will sponsor a public Town Hall meeting to address issues of importance to seniors. \nThis Town Hall will be attended by:\n• Jamie Korab\, Liberal Candidate\, Waterford Valley\n• Nicole Boland\, NDP Candidate\, Waterford Valley\n• To be advised\, PC Candidate \nModerated by: Ed Hancock \nDate: Saturday\, October 11\, 2025\nTime: 12:30 PM-3:00 PM (doors will open at 12:30; panel discussion will commence at 1:00 PM)\nWhere: Salvation Army Citadel Sanctuary\n21 Adams Avenue\, St. John’s \nNote: No food or drink\, of any kind\, is permitted in the sanctuary. Water and a light snack will be available in the lobby before the meeting starts. \nThis venue has plenty of parking and is accessible. \nEveryone welcome\, no pre-registration is required.
URL:https://nlpspa.ca/event/town-hall-meeting/
LOCATION:Salvation Army Citadel\, 25 Adams Avenue\, St.\, NL\, Canada
CATEGORIES:Coalition Meeting
END:VEVENT
END:VCALENDAR