BEGIN:VCALENDAR
VERSION:2.0
PRODID:-//NL Pensioners Association - ECPv6.15.20//NONSGML v1.0//EN
CALSCALE:GREGORIAN
METHOD:PUBLISH
X-ORIGINAL-URL:https://nlpspa.ca
X-WR-CALDESC:Events for NL Pensioners Association
REFRESH-INTERVAL;VALUE=DURATION:PT1H
X-Robots-Tag:noindex
X-PUBLISHED-TTL:PT1H
BEGIN:VTIMEZONE
TZID:America/St_Johns
BEGIN:DAYLIGHT
TZOFFSETFROM:-0330
TZOFFSETTO:-0230
TZNAME:NDT
DTSTART:20240310T053000
END:DAYLIGHT
BEGIN:STANDARD
TZOFFSETFROM:-0230
TZOFFSETTO:-0330
TZNAME:NST
DTSTART:20241103T043000
END:STANDARD
BEGIN:DAYLIGHT
TZOFFSETFROM:-0330
TZOFFSETTO:-0230
TZNAME:NDT
DTSTART:20250309T053000
END:DAYLIGHT
BEGIN:STANDARD
TZOFFSETFROM:-0230
TZOFFSETTO:-0330
TZNAME:NST
DTSTART:20251102T043000
END:STANDARD
BEGIN:DAYLIGHT
TZOFFSETFROM:-0330
TZOFFSETTO:-0230
TZNAME:NDT
DTSTART:20260308T053000
END:DAYLIGHT
BEGIN:STANDARD
TZOFFSETFROM:-0230
TZOFFSETTO:-0330
TZNAME:NST
DTSTART:20261101T043000
END:STANDARD
END:VTIMEZONE
BEGIN:VEVENT
DTSTART;TZID=America/St_Johns:20250501T153000
DTEND;TZID=America/St_Johns:20250501T153000
DTSTAMP:20260422T014134
CREATED:20250428T141515Z
LAST-MODIFIED:20250428T141553Z
UID:2882-1746113400-1746113400@nlpspa.ca
SUMMARY:Elder Action Day Webinar
DESCRIPTION:The CFUW’s Long Term Care Study Group would like to welcome you to their Elder Action Day Webinar entitled “Perspectives on Growing Older From The 2024 Ageing In Canada Survey : What We Can Learn & What We Can Do”. This event will feature guest speaker Gabrielle Gallant\, Director of Policy at the National Institute on Ageing\, and will be facilitated by Lois Flakstad & Dr. Suzanne Brake. \nClick here to register.
URL:https://nlpspa.ca/event/elder-action-day-webinar/
LOCATION:Virtual Meeting
END:VEVENT
END:VCALENDAR