BEGIN:VCALENDAR
VERSION:2.0
PRODID:-//NL Pensioners Association - ECPv6.15.20//NONSGML v1.0//EN
CALSCALE:GREGORIAN
METHOD:PUBLISH
X-ORIGINAL-URL:https://nlpspa.ca
X-WR-CALDESC:Events for NL Pensioners Association
REFRESH-INTERVAL;VALUE=DURATION:PT1H
X-Robots-Tag:noindex
X-PUBLISHED-TTL:PT1H
BEGIN:VTIMEZONE
TZID:America/St_Johns
BEGIN:DAYLIGHT
TZOFFSETFROM:-0330
TZOFFSETTO:-0230
TZNAME:NDT
DTSTART:20240310T053000
END:DAYLIGHT
BEGIN:STANDARD
TZOFFSETFROM:-0230
TZOFFSETTO:-0330
TZNAME:NST
DTSTART:20241103T043000
END:STANDARD
BEGIN:DAYLIGHT
TZOFFSETFROM:-0330
TZOFFSETTO:-0230
TZNAME:NDT
DTSTART:20250309T053000
END:DAYLIGHT
BEGIN:STANDARD
TZOFFSETFROM:-0230
TZOFFSETTO:-0330
TZNAME:NST
DTSTART:20251102T043000
END:STANDARD
BEGIN:DAYLIGHT
TZOFFSETFROM:-0330
TZOFFSETTO:-0230
TZNAME:NDT
DTSTART:20260308T053000
END:DAYLIGHT
BEGIN:STANDARD
TZOFFSETFROM:-0230
TZOFFSETTO:-0330
TZNAME:NST
DTSTART:20261101T043000
END:STANDARD
END:VTIMEZONE
BEGIN:VEVENT
DTSTART;TZID=America/St_Johns:20250430T093000
DTEND;TZID=America/St_Johns:20250430T093000
DTSTAMP:20260422T014104
CREATED:20250428T135241Z
LAST-MODIFIED:20250428T135306Z
UID:2880-1746005400-1746005400@nlpspa.ca
SUMMARY:Let's Talk About...Aging in Place\, Home Modification Programs\, and Adaptive Devices
DESCRIPTION:As we age\, many of us want the same thing – to age safely at home. Ensuring our home remains a safe\, comfortable\, and accessible environment is a vital element of aging in place. Join us on April 30th for out Let’s Talk About…Aging Well in Place Zoom session\, as Ted McGregor\, a Clinical Occupational Therapist with NLHS\, discusses aging in place\, as well as home modification programs and adaptive devices that can aid in the process.  \nRegistration link: https://us06web.zoom.us/meeting/register/SqcJhFiTTTaZhPJJ8PBqDA
URL:https://nlpspa.ca/event/lets-talk-about-aging-in-place-home-modification-programs-and-adaptive-devices/
LOCATION:Virtual Meeting
CATEGORIES:Seniors NL
ORGANIZER;CN="Seniors NL":MAILTO:outreach@seniorsnl.ca
END:VEVENT
END:VCALENDAR