BEGIN:VCALENDAR
VERSION:2.0
PRODID:-//NL Pensioners Association - ECPv6.15.20//NONSGML v1.0//EN
CALSCALE:GREGORIAN
METHOD:PUBLISH
X-WR-CALNAME:NL Pensioners Association
X-ORIGINAL-URL:https://nlpspa.ca
X-WR-CALDESC:Events for NL Pensioners Association
REFRESH-INTERVAL;VALUE=DURATION:PT1H
X-Robots-Tag:noindex
X-PUBLISHED-TTL:PT1H
BEGIN:VTIMEZONE
TZID:America/St_Johns
BEGIN:DAYLIGHT
TZOFFSETFROM:-0330
TZOFFSETTO:-0230
TZNAME:NDT
DTSTART:20240310T053000
END:DAYLIGHT
BEGIN:STANDARD
TZOFFSETFROM:-0230
TZOFFSETTO:-0330
TZNAME:NST
DTSTART:20241103T043000
END:STANDARD
BEGIN:DAYLIGHT
TZOFFSETFROM:-0330
TZOFFSETTO:-0230
TZNAME:NDT
DTSTART:20250309T053000
END:DAYLIGHT
BEGIN:STANDARD
TZOFFSETFROM:-0230
TZOFFSETTO:-0330
TZNAME:NST
DTSTART:20251102T043000
END:STANDARD
BEGIN:DAYLIGHT
TZOFFSETFROM:-0330
TZOFFSETTO:-0230
TZNAME:NDT
DTSTART:20260308T053000
END:DAYLIGHT
BEGIN:STANDARD
TZOFFSETFROM:-0230
TZOFFSETTO:-0330
TZNAME:NST
DTSTART:20261101T043000
END:STANDARD
END:VTIMEZONE
BEGIN:VEVENT
DTSTART;TZID=America/St_Johns:20250404T133000
DTEND;TZID=America/St_Johns:20250404T153000
DTSTAMP:20260422T025209
CREATED:20250319T200611Z
LAST-MODIFIED:20250319T200611Z
UID:2849-1743773400-1743780600@nlpspa.ca
SUMMARY:Coalition Town Hall Meeting
DESCRIPTION:NLPSPA and the affiliated associations of the NL Seniors Coalition will sponsor an Information-Sharing Town Hall meeting on the services and programs offered by the Government of Newfoundland and Labrador that are useful and available for older persons as they age.  \nIn cooperation with the Office of the Minister of Children\, Seniors\, and Social Development\, the Honourable Paul Pike\, together with senior officials of several Government programs and services\, information will be provided on those services for seniors that are intended to assist older persons to live fully and engaged lives \, to live in their own homes as long as they are able\, and to provide relief on some of the basic needs in these times of high living costs. There will be time for questions and answers after the presentations. Tea/coffee/water and light refreshments will be available. To avoid congested parking\, consider getting dropped off or carpooling and bringing a friend! \nThere is no charge to attend this event. Please register with the link below and click on “reserve a spot” to get a ticket for this event. Because this is a free event\, it is important we have an account of those attending so we can plan for your participation. \nhttps://www.eventbrite.ca/e/information-sharing-town-hall-meeting-tickets-1276018939999?aff=oddtdtcreator
URL:https://nlpspa.ca/event/coalition-town-hall-meeting-2/
LOCATION:Capital Hotel\, 208 Kenmount Road\, St. John's\, NL\, A1B 3P2\, Canada
CATEGORIES:Coalition Meeting
END:VEVENT
END:VCALENDAR