BEGIN:VCALENDAR
VERSION:2.0
PRODID:-//NL Pensioners Association - ECPv6.15.20//NONSGML v1.0//EN
CALSCALE:GREGORIAN
METHOD:PUBLISH
X-WR-CALNAME:NL Pensioners Association
X-ORIGINAL-URL:https://nlpspa.ca
X-WR-CALDESC:Events for NL Pensioners Association
REFRESH-INTERVAL;VALUE=DURATION:PT1H
X-Robots-Tag:noindex
X-PUBLISHED-TTL:PT1H
BEGIN:VTIMEZONE
TZID:America/St_Johns
BEGIN:DAYLIGHT
TZOFFSETFROM:-0330
TZOFFSETTO:-0230
TZNAME:NDT
DTSTART:20240310T053000
END:DAYLIGHT
BEGIN:STANDARD
TZOFFSETFROM:-0230
TZOFFSETTO:-0330
TZNAME:NST
DTSTART:20241103T043000
END:STANDARD
BEGIN:DAYLIGHT
TZOFFSETFROM:-0330
TZOFFSETTO:-0230
TZNAME:NDT
DTSTART:20250309T053000
END:DAYLIGHT
BEGIN:STANDARD
TZOFFSETFROM:-0230
TZOFFSETTO:-0330
TZNAME:NST
DTSTART:20251102T043000
END:STANDARD
BEGIN:DAYLIGHT
TZOFFSETFROM:-0330
TZOFFSETTO:-0230
TZNAME:NDT
DTSTART:20260308T053000
END:DAYLIGHT
BEGIN:STANDARD
TZOFFSETFROM:-0230
TZOFFSETTO:-0330
TZNAME:NST
DTSTART:20261101T043000
END:STANDARD
END:VTIMEZONE
BEGIN:VEVENT
DTSTART;TZID=America/St_Johns:20250327T133000
DTEND;TZID=America/St_Johns:20250327T143000
DTSTAMP:20260422T042134
CREATED:20250321T171208Z
LAST-MODIFIED:20250321T171208Z
UID:2854-1743082200-1743085800@nlpspa.ca
SUMMARY:Tips & Tools for Mindful Medication Use in Atlantic Canada
DESCRIPTION:Do you or someone you care for take medications? Have you ever wondered if those medications are still safe and appropriate? Join us for Tips and Tools for Mindful Medication Use in Atlantic Canada\, a free and interactive webinar offering information and strategies to help ensure medications are working as intended while reducing the risk of harm. \nSpeaker:  Dr. Emily McDonald\, Director\, Canadian Medication Appropriateness & Deprescribing Network \nWebinar details:  \n\nDate: Wednesday\, March 27th\, 2025\nTime: 1 – 2 p.m. Atlantic / 1:30 – 2:30 p.m. Newfoundland\nLocation: Online (Zoom platform) – register here\nCost: FREE!\n\nThis presentation will explore: \n\nHow medications affect us differently as we age\nWhat medication overload means and why it matters\nTips for discussing medications with a healthcare provider\nPractical strategies to prevent medication harm\nKey medication safety resources for older adults and caregivers\n\nThis webinar is hosted by the Canadian Medication Appropriateness and Deprescribing Network in collaboration with the NL50+ Federation\, the Retired Teachers’ Organization of the Nova Scotia Teachers’ Union\, and the Canadian Association of Retired Teachers. \nLearn more and register here.
URL:https://nlpspa.ca/event/tips-tools-for-mindful-medication-use-in-atlantic-canada/
LOCATION:Virtual Meeting
ATTACH;FMTTYPE=image/png:https://nlpspa.ca/wp-content/uploads/2025/03/download.png
END:VEVENT
END:VCALENDAR