BEGIN:VCALENDAR
VERSION:2.0
PRODID:-//NL Pensioners Association - ECPv6.15.20//NONSGML v1.0//EN
CALSCALE:GREGORIAN
METHOD:PUBLISH
X-WR-CALNAME:NL Pensioners Association
X-ORIGINAL-URL:https://nlpspa.ca
X-WR-CALDESC:Events for NL Pensioners Association
REFRESH-INTERVAL;VALUE=DURATION:PT1H
X-Robots-Tag:noindex
X-PUBLISHED-TTL:PT1H
BEGIN:VTIMEZONE
TZID:America/St_Johns
BEGIN:DAYLIGHT
TZOFFSETFROM:-0330
TZOFFSETTO:-0230
TZNAME:NDT
DTSTART:20230312T053000
END:DAYLIGHT
BEGIN:STANDARD
TZOFFSETFROM:-0230
TZOFFSETTO:-0330
TZNAME:NST
DTSTART:20231105T043000
END:STANDARD
BEGIN:DAYLIGHT
TZOFFSETFROM:-0330
TZOFFSETTO:-0230
TZNAME:NDT
DTSTART:20240310T053000
END:DAYLIGHT
BEGIN:STANDARD
TZOFFSETFROM:-0230
TZOFFSETTO:-0330
TZNAME:NST
DTSTART:20241103T043000
END:STANDARD
BEGIN:DAYLIGHT
TZOFFSETFROM:-0330
TZOFFSETTO:-0230
TZNAME:NDT
DTSTART:20250309T053000
END:DAYLIGHT
BEGIN:STANDARD
TZOFFSETFROM:-0230
TZOFFSETTO:-0330
TZNAME:NST
DTSTART:20251102T043000
END:STANDARD
END:VTIMEZONE
BEGIN:VEVENT
DTSTART;TZID=America/St_Johns:20240717T130000
DTEND;TZID=America/St_Johns:20240717T160000
DTSTAMP:20260422T201219
CREATED:20240424T150506Z
LAST-MODIFIED:20240620T134336Z
UID:2469-1721221200-1721232000@nlpspa.ca
SUMMARY:Party in the Park
DESCRIPTION:Party in the Park is an annual\, free event for seniors in Bowring Park which includes local entertainment along with light refreshments\, giveaways and more. \nFor 2024\, the Party in the Park takes place on Wednesday\, July 17\, from 1 to 4 p.m. on the lawn by Bowring Park Bungalow. Rain date July 18. If inclement weather occurs on July 18th it will move inside to the Shiner’s Club- 530 Topsail Road. \nA limited number of accessible parking spaces are available on a first come first serve basis at the Bowring Park Bungalow. All other vehicles that have accessible permits are permitted to drive through the park and drop off those attending the event. Enter via the gate by the large duck pond. \nTransportation \nThe City offers a bus to pick-up attendees at selected seniors complexes around the city. Advanced registration and a fee of $6 is required for pick up. To register for transportation\, please choose one of the following options: \n\nOnline at RecConnect\nIn person: H.G.R. Mews Community Centre\, 40 Mundy Pond Road or at Paul Reynolds Community Centre\, 35 Carrick Drive\nCall: 576-8499 or 576-8631\n\nPlease call (709) 576-8594 the evening before the event to determine the bus schedule if you’ve registered for busing. Pick-ups occur from the H.G.R. Mews Community Centre and the following adult and seniors apartment complexes: \n\nBishop Meaden Manor\nBuilding # 10 Pasadena Cres\nBuilding # 25 Tiffany Lane\nRiverhead Towers\nSt. George’s Court Apartments\nKeane Place Apartments\nKelly’s Brook Apartments\nKenny’s Park Apartments\nThe Bristol\nMaplewood Apartments\nThomas Estates\nMorgan Hollow\nMt. Pleasant Manor\nVictoria Manor\nWigmore Manor\nSt. Luke’s Cottages
URL:https://nlpspa.ca/event/party-in-the-park-2/
LOCATION:Bowring Park\, 305 Waterford Bridge Road\, St. John's\, A1E 1E7\, Canada
CATEGORIES:City of St. John's
ORGANIZER;CN="City of St. John's":MAILTO:recreation@stjohns.ca
END:VEVENT
END:VCALENDAR