BEGIN:VCALENDAR
VERSION:2.0
PRODID:-//NL Pensioners Association - ECPv6.15.20//NONSGML v1.0//EN
CALSCALE:GREGORIAN
METHOD:PUBLISH
X-WR-CALNAME:NL Pensioners Association
X-ORIGINAL-URL:https://nlpspa.ca
X-WR-CALDESC:Events for NL Pensioners Association
REFRESH-INTERVAL;VALUE=DURATION:PT1H
X-Robots-Tag:noindex
X-PUBLISHED-TTL:PT1H
BEGIN:VTIMEZONE
TZID:America/St_Johns
BEGIN:DAYLIGHT
TZOFFSETFROM:-0330
TZOFFSETTO:-0230
TZNAME:NDT
DTSTART:20230312T053000
END:DAYLIGHT
BEGIN:STANDARD
TZOFFSETFROM:-0230
TZOFFSETTO:-0330
TZNAME:NST
DTSTART:20231105T043000
END:STANDARD
BEGIN:DAYLIGHT
TZOFFSETFROM:-0330
TZOFFSETTO:-0230
TZNAME:NDT
DTSTART:20240310T053000
END:DAYLIGHT
BEGIN:STANDARD
TZOFFSETFROM:-0230
TZOFFSETTO:-0330
TZNAME:NST
DTSTART:20241103T043000
END:STANDARD
BEGIN:DAYLIGHT
TZOFFSETFROM:-0330
TZOFFSETTO:-0230
TZNAME:NDT
DTSTART:20250309T053000
END:DAYLIGHT
BEGIN:STANDARD
TZOFFSETFROM:-0230
TZOFFSETTO:-0330
TZNAME:NST
DTSTART:20251102T043000
END:STANDARD
END:VTIMEZONE
BEGIN:VEVENT
DTSTART;TZID=America/St_Johns:20240530T100000
DTEND;TZID=America/St_Johns:20240530T100000
DTSTAMP:20260422T214105
CREATED:20231027T162208Z
LAST-MODIFIED:20240405T120906Z
UID:1996-1717063200-1717063200@nlpspa.ca
SUMMARY:Board Meeting
DESCRIPTION:May 30\, 2024\, @ 9:30 AM\, In-Person\, Capital Hotel\, Kenmount Road St. John’s
URL:https://nlpspa.ca/event/nlpspa-board-meeting-4/
LOCATION:Capital Hotel\, 208 Kenmount Road\, St. John's\, NL\, A1B 3P2\, Canada
CATEGORIES:Board Meetings
ATTACH;FMTTYPE=image/jpeg:https://nlpspa.ca/wp-content/uploads/2023/01/Logo.jpg
ORGANIZER;CN="NLPSPA":MAILTO:pensioners@npspa.ca
END:VEVENT
BEGIN:VEVENT
DTSTART;TZID=America/St_Johns:20240530T100000
DTEND;TZID=America/St_Johns:20240530T120000
DTSTAMP:20260422T214105
CREATED:20240429T115909Z
LAST-MODIFIED:20240429T115914Z
UID:2508-1717063200-1717070400@nlpspa.ca
SUMMARY:techKNOWtutors: Online Grocery Shopping
DESCRIPTION:After this workshop\, you’ll be able to: \n-Choose the Right Online Grocery Store for Your Needs \n-Set Up your Account Online \n-How to Schedule a Delivery of Pick-up \nClick here to register.
URL:https://nlpspa.ca/event/techknowtutors-online-grocery-shopping/
LOCATION:Virtual Meeting
CATEGORIES:techKNOWtutors
ORGANIZER;CN="techKNOWtutors":MAILTO:techknowtutors@communitysector.ca
END:VEVENT
BEGIN:VEVENT
DTSTART;TZID=America/St_Johns:20240530T120000
DTEND;TZID=America/St_Johns:20240530T130000
DTSTAMP:20260422T214106
CREATED:20240425T134828Z
LAST-MODIFIED:20240425T134832Z
UID:2488-1717070400-1717074000@nlpspa.ca
SUMMARY:techKNOWtutors: Social Media Content Creation
DESCRIPTION:What content to create\, to post it and tools for content creation. \nRegister here.
URL:https://nlpspa.ca/event/techknowtutors-social-media-content-creation/
LOCATION:Virtual Meeting
CATEGORIES:techKNOWtutors
ORGANIZER;CN="techKNOWtutors":MAILTO:techknowtutors@communitysector.ca
END:VEVENT
END:VCALENDAR