BEGIN:VCALENDAR
VERSION:2.0
PRODID:-//NL Pensioners Association - ECPv6.15.20//NONSGML v1.0//EN
CALSCALE:GREGORIAN
METHOD:PUBLISH
X-WR-CALNAME:NL Pensioners Association
X-ORIGINAL-URL:https://nlpspa.ca
X-WR-CALDESC:Events for NL Pensioners Association
REFRESH-INTERVAL;VALUE=DURATION:PT1H
X-Robots-Tag:noindex
X-PUBLISHED-TTL:PT1H
BEGIN:VTIMEZONE
TZID:America/St_Johns
BEGIN:DAYLIGHT
TZOFFSETFROM:-0330
TZOFFSETTO:-0230
TZNAME:NDT
DTSTART:20230312T053000
END:DAYLIGHT
BEGIN:STANDARD
TZOFFSETFROM:-0230
TZOFFSETTO:-0330
TZNAME:NST
DTSTART:20231105T043000
END:STANDARD
BEGIN:DAYLIGHT
TZOFFSETFROM:-0330
TZOFFSETTO:-0230
TZNAME:NDT
DTSTART:20240310T053000
END:DAYLIGHT
BEGIN:STANDARD
TZOFFSETFROM:-0230
TZOFFSETTO:-0330
TZNAME:NST
DTSTART:20241103T043000
END:STANDARD
BEGIN:DAYLIGHT
TZOFFSETFROM:-0330
TZOFFSETTO:-0230
TZNAME:NDT
DTSTART:20250309T053000
END:DAYLIGHT
BEGIN:STANDARD
TZOFFSETFROM:-0230
TZOFFSETTO:-0330
TZNAME:NST
DTSTART:20251102T043000
END:STANDARD
END:VTIMEZONE
BEGIN:VEVENT
DTSTART;TZID=America/St_Johns:20240430T123000
DTEND;TZID=America/St_Johns:20240430T123000
DTSTAMP:20260422T230103
CREATED:20240405T120028Z
LAST-MODIFIED:20240405T120044Z
UID:2455-1714480200-1714480200@nlpspa.ca
SUMMARY:Healthy Discussions: Social Prescribing
DESCRIPTION:Social prescribing is a way to connect patients to a range of non-clinical services in the community to improve health and well-being. It can help address social issues such as loneliness or social isolation\, ageism\, and housing insecurity. We’ll be joined by Srija Biswas\, Project Lead with the Canadian Institute for Social Prescribing\, a national hub that links people and shares practices on this method of care. Join the discussion! \nRegister here.
URL:https://nlpspa.ca/event/healthy-discussions-social-prescribing/
LOCATION:Virtual Meeting
ATTACH;FMTTYPE=image/png:https://nlpspa.ca/wp-content/uploads/2023/01/Q.png
ORGANIZER;CN="Quality of Care NL":MAILTO:info@qualityofcarenl.ca
END:VEVENT
END:VCALENDAR