BEGIN:VCALENDAR
VERSION:2.0
PRODID:-//NL Pensioners Association - ECPv6.15.20//NONSGML v1.0//EN
CALSCALE:GREGORIAN
METHOD:PUBLISH
X-WR-CALNAME:NL Pensioners Association
X-ORIGINAL-URL:https://nlpspa.ca
X-WR-CALDESC:Events for NL Pensioners Association
REFRESH-INTERVAL;VALUE=DURATION:PT1H
X-Robots-Tag:noindex
X-PUBLISHED-TTL:PT1H
BEGIN:VTIMEZONE
TZID:America/St_Johns
BEGIN:DAYLIGHT
TZOFFSETFROM:-0330
TZOFFSETTO:-0230
TZNAME:NDT
DTSTART:20230312T053000
END:DAYLIGHT
BEGIN:STANDARD
TZOFFSETFROM:-0230
TZOFFSETTO:-0330
TZNAME:NST
DTSTART:20231105T043000
END:STANDARD
BEGIN:DAYLIGHT
TZOFFSETFROM:-0330
TZOFFSETTO:-0230
TZNAME:NDT
DTSTART:20240310T053000
END:DAYLIGHT
BEGIN:STANDARD
TZOFFSETFROM:-0230
TZOFFSETTO:-0330
TZNAME:NST
DTSTART:20241103T043000
END:STANDARD
BEGIN:DAYLIGHT
TZOFFSETFROM:-0330
TZOFFSETTO:-0230
TZNAME:NDT
DTSTART:20250309T053000
END:DAYLIGHT
BEGIN:STANDARD
TZOFFSETFROM:-0230
TZOFFSETTO:-0330
TZNAME:NST
DTSTART:20251102T043000
END:STANDARD
END:VTIMEZONE
BEGIN:VEVENT
DTSTART;TZID=America/St_Johns:20240228T100000
DTEND;TZID=America/St_Johns:20240228T160000
DTSTAMP:20260423T021229
CREATED:20240212T144108Z
LAST-MODIFIED:20240212T144113Z
UID:2377-1709114400-1709136000@nlpspa.ca
SUMMARY:techKNOWtutors Stephenville Session
DESCRIPTION:NLPSPA is pleased to partner with the TechKNOWtutors Program to offer a series of one-day beginner level digital learning workshops in key locations on the West Coast. Each workshop will begin at 10:00 AM on the date specified and will conclude at approximately 4:00 PM. Registrants are encouraged to arrive 30 minutes in advance to ensure the session starts on time. Please bring along your iPhone\, smartphone\, iPad\, or whatever other portable electronic device you use for accessing online communication.  \nThe curriculum is as follows: \n\nDigital Basics: \n\n\nIntroduction to computers\, operating systems\, and common hardware components\nNavigating the desktop\, files\, and folders\nUnderstanding basic computer terminology\n\n\nInternet Fundamentals: \n\n\nIntroduction to web browsers and their features\nConducting effective web searches\nUnderstanding website navigation and URL structures\nExploring online resources and tools\n\n\nEmail and Communication: \n\n\nSetting up and managing email accounts\nComposing\, sending\, and replying to emails\nUnderstanding email etiquette and best practices\nIntroduction to video conferencing and instant messaging tools\n\nRegister here: https://form.jotform.com/240375382926260
URL:https://nlpspa.ca/event/techknowtutors-stephenville-session/
LOCATION:Zion Pentecostal Church\, 51 Carolina Drive\, Stephenville\, NL\, Canada
CATEGORIES:NLPSPA Event
ATTACH;FMTTYPE=image/png:https://nlpspa.ca/wp-content/uploads/2024/02/Stephenville-no-logo.png
ORGANIZER;CN="NLPSPA":MAILTO:pensioners@npspa.ca
END:VEVENT
END:VCALENDAR