BEGIN:VCALENDAR
VERSION:2.0
PRODID:-//NL Pensioners Association - ECPv6.15.20//NONSGML v1.0//EN
CALSCALE:GREGORIAN
METHOD:PUBLISH
X-WR-CALNAME:NL Pensioners Association
X-ORIGINAL-URL:https://nlpspa.ca
X-WR-CALDESC:Events for NL Pensioners Association
REFRESH-INTERVAL;VALUE=DURATION:PT1H
X-Robots-Tag:noindex
X-PUBLISHED-TTL:PT1H
BEGIN:VTIMEZONE
TZID:America/St_Johns
BEGIN:DAYLIGHT
TZOFFSETFROM:-0330
TZOFFSETTO:-0230
TZNAME:NDT
DTSTART:20220313T053000
END:DAYLIGHT
BEGIN:STANDARD
TZOFFSETFROM:-0230
TZOFFSETTO:-0330
TZNAME:NST
DTSTART:20221106T043000
END:STANDARD
BEGIN:DAYLIGHT
TZOFFSETFROM:-0330
TZOFFSETTO:-0230
TZNAME:NDT
DTSTART:20230312T053000
END:DAYLIGHT
BEGIN:STANDARD
TZOFFSETFROM:-0230
TZOFFSETTO:-0330
TZNAME:NST
DTSTART:20231105T043000
END:STANDARD
BEGIN:DAYLIGHT
TZOFFSETFROM:-0330
TZOFFSETTO:-0230
TZNAME:NDT
DTSTART:20240310T053000
END:DAYLIGHT
BEGIN:STANDARD
TZOFFSETFROM:-0230
TZOFFSETTO:-0330
TZNAME:NST
DTSTART:20241103T043000
END:STANDARD
END:VTIMEZONE
BEGIN:VEVENT
DTSTART;TZID=America/St_Johns:20231121T190000
DTEND;TZID=America/St_Johns:20231121T190000
DTSTAMP:20260423T081740
CREATED:20231031T123019Z
LAST-MODIFIED:20231031T123124Z
UID:2016-1700593200-1700593200@nlpspa.ca
SUMMARY:Wills & Estate Planning
DESCRIPTION:Presenting: Wills & Estate Planning\nTuesday\, November 21\, 2023 @ 7:00 PM \nNLPSPA is pleased to partner with Provident10 and the Public Legal Information Association of Newfoundland and Labrador\, to bring you a session on the importance of having a will\, when to update it\, pitfalls to avoid\, what to include\, what is probate and why/when\, what constitutes a valid will\, what is an Enduring Power of Attorney and the requirements and what is an Advanced Health Care Directive and the requirements. \nOur presenter is Sara Hawkins\, an Access to Justice Coordinator with the Public Legal Association of Newfoundland and Labrador. Sara has over 15 years’ experience as a paralegal and has worked with private firms\, legal aid\, the courts\, and non-profits. She has worked with all aspect of the law but has a passion for seniors who need help navigating the legal aspects of aging. When not at work you will see her volunteering as a first responder with St. John Ambulance or knitting while drinking coffee. \nEveryone is welcome to this event. \nPlease click on the link below to register. \nhttps://us06web.zoom.us/meeting/register/tZYlc-ioqz8tG901Oq8aWzJr1faZvqlEEUJ1 \nAfter registering\, you will receive a confirmation email containing information about joining the meeting. \n 
URL:https://nlpspa.ca/event/wills-estate-planning-2/
LOCATION:Virtual Meeting
CATEGORIES:NLPSPA Event
ORGANIZER;CN="NLPSPA":MAILTO:pensioners@npspa.ca
END:VEVENT
END:VCALENDAR