BEGIN:VCALENDAR
VERSION:2.0
PRODID:-//NL Pensioners Association - ECPv6.15.20//NONSGML v1.0//EN
CALSCALE:GREGORIAN
METHOD:PUBLISH
X-WR-CALNAME:NL Pensioners Association
X-ORIGINAL-URL:https://nlpspa.ca
X-WR-CALDESC:Events for NL Pensioners Association
REFRESH-INTERVAL;VALUE=DURATION:PT1H
X-Robots-Tag:noindex
X-PUBLISHED-TTL:PT1H
BEGIN:VTIMEZONE
TZID:America/St_Johns
BEGIN:DAYLIGHT
TZOFFSETFROM:-0330
TZOFFSETTO:-0230
TZNAME:NDT
DTSTART:20220313T053000
END:DAYLIGHT
BEGIN:STANDARD
TZOFFSETFROM:-0230
TZOFFSETTO:-0330
TZNAME:NST
DTSTART:20221106T043000
END:STANDARD
BEGIN:DAYLIGHT
TZOFFSETFROM:-0330
TZOFFSETTO:-0230
TZNAME:NDT
DTSTART:20230312T053000
END:DAYLIGHT
BEGIN:STANDARD
TZOFFSETFROM:-0230
TZOFFSETTO:-0330
TZNAME:NST
DTSTART:20231105T043000
END:STANDARD
BEGIN:DAYLIGHT
TZOFFSETFROM:-0330
TZOFFSETTO:-0230
TZNAME:NDT
DTSTART:20240310T053000
END:DAYLIGHT
BEGIN:STANDARD
TZOFFSETFROM:-0230
TZOFFSETTO:-0330
TZNAME:NST
DTSTART:20241103T043000
END:STANDARD
END:VTIMEZONE
BEGIN:VEVENT
DTSTART;TZID=America/St_Johns:20231011T110000
DTEND;TZID=America/St_Johns:20231011T140000
DTSTAMP:20260423T094624
CREATED:20230828T160352Z
LAST-MODIFIED:20230828T160352Z
UID:1825-1697022000-1697032800@nlpspa.ca
SUMMARY:NLPSPA AGM and Lunch with Entertainment
DESCRIPTION:The NLPSPA Annual General Meeting for 2023 will be held on October 11\, 2023\, at the Comfort Hotel & Convention Centre\, 106 Airport Road\, commencing at 11:00 AM. All are welcome to attend the Annual General Meeting\, at no cost.  \nThis year\, however\, NLPSPA is providing an associated opportunity for socializing with the sharing of a meal and entertainment\, for which a nominal cost of $10.00 per person is being charged. If you are planning to attend the Annual General Meeting and wish to partake of the meal\, with entertainment\, contact Cheryl at the NLPSPA Office to arrange for your meal and entertainment registration at 709-754-5730 or 1-800-563-4188. \nThe menu is bruschetta chicken breast supreme\, fresh rolls\, seasonal fresh vegetables\, tea\, coffee\, and dessert. \nEntertainment is being provided by the “The Hallidays” who are a family music group consisting of two sisters\, Sarah and Jennifer -vocals and keys\, and Dave (husband/brother-in-law) on the drums. The trio has been performing together since 2006 and have been heard on CBC Radio\, Rogers Television and multiple venues throughout St. John’s and Toronto. This promises to be a wonderful afternoon of music and song. \nDue to capacity numbers at the Comfort Hotel\, you are encouraged to purchase your dinner seat as soon as possible. Deadline is Friday\, September 29\, 2023. There will be NO refunds after this date.
URL:https://nlpspa.ca/event/nlpspa-agm-and-lunch-with-entertainment/
LOCATION:Comfort Hotel & Conference Centre\, 106 Airport Road\, St. John's\, NL\, Canada
ATTACH;FMTTYPE=image/jpeg:https://nlpspa.ca/wp-content/uploads/2023/01/Logo.jpg
END:VEVENT
END:VCALENDAR