BEGIN:VCALENDAR
VERSION:2.0
PRODID:-//NL Pensioners Association - ECPv6.15.20//NONSGML v1.0//EN
CALSCALE:GREGORIAN
METHOD:PUBLISH
X-WR-CALNAME:NL Pensioners Association
X-ORIGINAL-URL:https://nlpspa.ca
X-WR-CALDESC:Events for NL Pensioners Association
REFRESH-INTERVAL;VALUE=DURATION:PT1H
X-Robots-Tag:noindex
X-PUBLISHED-TTL:PT1H
BEGIN:VTIMEZONE
TZID:America/St_Johns
BEGIN:DAYLIGHT
TZOFFSETFROM:-0330
TZOFFSETTO:-0230
TZNAME:NDT
DTSTART:20220313T053000
END:DAYLIGHT
BEGIN:STANDARD
TZOFFSETFROM:-0230
TZOFFSETTO:-0330
TZNAME:NST
DTSTART:20221106T043000
END:STANDARD
BEGIN:DAYLIGHT
TZOFFSETFROM:-0330
TZOFFSETTO:-0230
TZNAME:NDT
DTSTART:20230312T053000
END:DAYLIGHT
BEGIN:STANDARD
TZOFFSETFROM:-0230
TZOFFSETTO:-0330
TZNAME:NST
DTSTART:20231105T043000
END:STANDARD
BEGIN:DAYLIGHT
TZOFFSETFROM:-0330
TZOFFSETTO:-0230
TZNAME:NDT
DTSTART:20240310T053000
END:DAYLIGHT
BEGIN:STANDARD
TZOFFSETFROM:-0230
TZOFFSETTO:-0330
TZNAME:NST
DTSTART:20241103T043000
END:STANDARD
END:VTIMEZONE
BEGIN:VEVENT
DTSTART;TZID=America/St_Johns:20231004T093000
DTEND;TZID=America/St_Johns:20231004T110000
DTSTAMP:20260423T111201
CREATED:20230926T154445Z
LAST-MODIFIED:20230926T154445Z
UID:1911-1696411800-1696417200@nlpspa.ca
SUMMARY:SeniorsNL Zoom Session: Let's Talk about...NL Public Libraries
DESCRIPTION:Join us to hear all about the wonderful things that Newfoundland & Labrador Public Libraries offer. From Home reader service to wellness resources\, there are a wide range of resources for our seniors to explore and discover at our public libraries in Newfoundland and Labrador. This presentation will provide an overview of NLPL digital library services as well as in-branch services geared towards seniors. \nGuest Speaker: Sandra Harnum\, Regional Librarian IIB\, Western Division Newfoundland & Labrador Public Libraries \nClick here to register  \n\nYou can ask a question when you register\, and we will send it to our presenter. You will be able to ask questions at the session as well.\nThis session will be captioned.\nThis session will be recorded.\nIf you need sign language\, select YES during registration.\nAfter registering\, you will receive a confirmation email containing information about joining the meeting. We ask\, however\, that you do not share your confirmation as the ID number in the confirmation is yours alone and should not be shared. You can feel free\, however\, to share this Zoom meeting invitation as others may like to register as well.\nCertificates will be available to participants for job-related professional development or post-secondary education. (You must be in attendance the entire session)
URL:https://nlpspa.ca/event/seniorsnl-zoom-session-lets-talk-about-nl-public-libraries/
LOCATION:Virtual Meeting
ATTACH;FMTTYPE=image/jpeg:https://nlpspa.ca/wp-content/uploads/2023/09/Picture1.jpg
ORGANIZER;CN="Seniors NL":MAILTO:outreach@seniorsnl.ca
END:VEVENT
END:VCALENDAR